
BEGIN:VCALENDAR
VERSION:2.0
PRODID:-//NRL22 - ECPv6.15.20//NONSGML v1.0//EN
CALSCALE:GREGORIAN
METHOD:PUBLISH
X-ORIGINAL-URL:https://nrl22.com
X-WR-CALDESC:Events for NRL22
REFRESH-INTERVAL;VALUE=DURATION:PT1H
X-Robots-Tag:noindex
X-PUBLISHED-TTL:PT1H
BEGIN:VTIMEZONE
TZID:America/Denver
BEGIN:DAYLIGHT
TZOFFSETFROM:-0700
TZOFFSETTO:-0600
TZNAME:MDT
DTSTART:20250309T090000
END:DAYLIGHT
BEGIN:STANDARD
TZOFFSETFROM:-0600
TZOFFSETTO:-0700
TZNAME:MST
DTSTART:20251102T080000
END:STANDARD
BEGIN:DAYLIGHT
TZOFFSETFROM:-0700
TZOFFSETTO:-0600
TZNAME:MDT
DTSTART:20260308T090000
END:DAYLIGHT
BEGIN:STANDARD
TZOFFSETFROM:-0600
TZOFFSETTO:-0700
TZNAME:MST
DTSTART:20261101T080000
END:STANDARD
BEGIN:DAYLIGHT
TZOFFSETFROM:-0700
TZOFFSETTO:-0600
TZNAME:MDT
DTSTART:20270314T090000
END:DAYLIGHT
BEGIN:STANDARD
TZOFFSETFROM:-0600
TZOFFSETTO:-0700
TZNAME:MST
DTSTART:20271107T080000
END:STANDARD
END:VTIMEZONE
BEGIN:VEVENT
DTSTART;TZID=America/Denver:20260419T090000
DTEND;TZID=America/Denver:20260419T150000
DTSTAMP:20260421T122437
CREATED:20260129T152309Z
LAST-MODIFIED:20260214T180901Z
UID:10002834-1776589200-1776610800@nrl22.com
SUMMARY:Heathen Precision 22 LR
DESCRIPTION:NRL22 Monthly COF plus additional bonus stages.
URL:https://nrl22.com/match/heathen-precision-22-lr/2026-04-19/
LOCATION:Heathen Precision .22 LR\, 1649 E 650 N\, Kaysville\, UT\, 84037\, United States
CATEGORIES:NRL22
ATTACH;FMTTYPE=image/png:https://nrl22.com/wp-content/uploads/2026/01/HeathenPrecisionLogo.png
ORGANIZER;CN="Jerry Flannery":MAILTO:heathenprecision22lr@gmail.com
GEO:41.048620893693;-111.90159644106
X-APPLE-STRUCTURED-LOCATION;VALUE=URI;X-ADDRESS=Heathen Precision .22 LR 1649 E 650 N Kaysville UT 84037 United States;X-APPLE-RADIUS=500;X-TITLE=1649 E 650 N:geo:-111.90159644106,41.048620893693
END:VEVENT
BEGIN:VEVENT
DTSTART;TZID=America/Denver:20260315T090000
DTEND;TZID=America/Denver:20260315T150000
DTSTAMP:20260421T122437
CREATED:20260129T152309Z
LAST-MODIFIED:20260214T180901Z
UID:10002833-1773565200-1773586800@nrl22.com
SUMMARY:Heathen Precision 22 LR
DESCRIPTION:NRL22 Monthly COF plus additional bonus stages.
URL:https://nrl22.com/match/heathen-precision-22-lr/2026-03-15/
LOCATION:Heathen Precision .22 LR\, 1649 E 650 N\, Kaysville\, UT\, 84037\, United States
CATEGORIES:NRL22
ATTACH;FMTTYPE=image/png:https://nrl22.com/wp-content/uploads/2026/01/HeathenPrecisionLogo.png
ORGANIZER;CN="Jerry Flannery":MAILTO:heathenprecision22lr@gmail.com
GEO:41.048620893693;-111.90159644106
X-APPLE-STRUCTURED-LOCATION;VALUE=URI;X-ADDRESS=Heathen Precision .22 LR 1649 E 650 N Kaysville UT 84037 United States;X-APPLE-RADIUS=500;X-TITLE=1649 E 650 N:geo:-111.90159644106,41.048620893693
END:VEVENT
BEGIN:VEVENT
DTSTART;TZID=America/Denver:20260215T090000
DTEND;TZID=America/Denver:20260215T150000
DTSTAMP:20260421T122437
CREATED:20260129T152309Z
LAST-MODIFIED:20260214T180901Z
UID:10002832-1771146000-1771167600@nrl22.com
SUMMARY:Heathen Precision 22 LR
DESCRIPTION:NRL22 Monthly COF plus additional bonus stages.
URL:https://nrl22.com/match/heathen-precision-22-lr/2026-02-15/
LOCATION:Heathen Precision .22 LR\, 1649 E 650 N\, Kaysville\, UT\, 84037\, United States
CATEGORIES:NRL22
ATTACH;FMTTYPE=image/png:https://nrl22.com/wp-content/uploads/2026/01/HeathenPrecisionLogo.png
ORGANIZER;CN="Jerry Flannery":MAILTO:heathenprecision22lr@gmail.com
GEO:41.048620893693;-111.90159644106
X-APPLE-STRUCTURED-LOCATION;VALUE=URI;X-ADDRESS=Heathen Precision .22 LR 1649 E 650 N Kaysville UT 84037 United States;X-APPLE-RADIUS=500;X-TITLE=1649 E 650 N:geo:-111.90159644106,41.048620893693
END:VEVENT
END:VCALENDAR