
BEGIN:VCALENDAR
VERSION:2.0
PRODID:-//NRL22 - ECPv6.15.20//NONSGML v1.0//EN
CALSCALE:GREGORIAN
METHOD:PUBLISH
X-WR-CALNAME:NRL22
X-ORIGINAL-URL:https://nrl22.com
X-WR-CALDESC:Events for NRL22
REFRESH-INTERVAL;VALUE=DURATION:PT1H
X-Robots-Tag:noindex
X-PUBLISHED-TTL:PT1H
BEGIN:VTIMEZONE
TZID:America/Chicago
BEGIN:DAYLIGHT
TZOFFSETFROM:-0600
TZOFFSETTO:-0500
TZNAME:CDT
DTSTART:20250309T080000
END:DAYLIGHT
BEGIN:STANDARD
TZOFFSETFROM:-0500
TZOFFSETTO:-0600
TZNAME:CST
DTSTART:20251102T070000
END:STANDARD
BEGIN:DAYLIGHT
TZOFFSETFROM:-0600
TZOFFSETTO:-0500
TZNAME:CDT
DTSTART:20260308T080000
END:DAYLIGHT
BEGIN:STANDARD
TZOFFSETFROM:-0500
TZOFFSETTO:-0600
TZNAME:CST
DTSTART:20261101T070000
END:STANDARD
BEGIN:DAYLIGHT
TZOFFSETFROM:-0600
TZOFFSETTO:-0500
TZNAME:CDT
DTSTART:20270314T080000
END:DAYLIGHT
BEGIN:STANDARD
TZOFFSETFROM:-0500
TZOFFSETTO:-0600
TZNAME:CST
DTSTART:20271107T070000
END:STANDARD
END:VTIMEZONE
BEGIN:VEVENT
DTSTART;VALUE=DATE:20261121
DTEND;VALUE=DATE:20261122
DTSTAMP:20260422T083925
CREATED:20260421T201830Z
LAST-MODIFIED:20260422T032843Z
UID:10003890-1795219200-1795305599@nrl22.com
SUMMARY:NETT MEAT GRINDER NRL22X – Terrell\, TX
DESCRIPTION:We are working with NTxR League to bring 3 NRL22X qualifier matches to DFW so you can qualify for the National Finale. We are hosting one and NTxR will be hosting the other two. \nWelcome to the Meatgrinder\nThis is an NRL22X qualifier Match for the 2027 season as well as our NETT Club Rimfire Finale. We will be working to get a stacked prize table again this year.\nAll NRL22X rules apply.\nThere will be 10 stages and you will need 120 rounds.\nTargets will range from 15-400yds.\nThis match will utilize the upper and lower decks of the dedicated rimfire range and the 20′ Tower.\nThis is a traditional dynamic tactical style match with an assortment of barricades and props\, par times\, and a limited round count. \nMatch Fee : $90 paid at the time of registration\, includes match shirt and lunch. Use discount code 54F2AN if you don’t want a shirt\, bringing the match fee to $80 \nGates will open @ 7:00. You will be able to check zero at 50yds and 200yds before the match.\nMandatory Shooters Brief @ 8:00 Going hot @ 8:15 \nONLINE REGISTRATION: https://www.impactscoring.net/match/register?id=8341 \nMatch Details:  \nWhat makes this event unique and welcoming? (Coming soon…)\nWill this match be cart friendly? Yes\nWhat type of engagements can be expected at this event? (Coming soon…)\nWhat type of lunch will be included? BBQ catered\nWill match swag be included and what deadlines apply? Match T-shirt included in price however you can opt out and save $10 on the match fee.\nAre there any activities scheduled the day prior? No \nAdult Price:$90 \nYoung Gun Price:$80 \nNumber of Stages: 12 \nMax Distance: 400yd \nRound Count: 120 \nMulligans: YES \nPrize Table: Yes \nTrophies: Yes \nRefund Policy: This match fee is non-refundable\, but you may sell your spot to another competitor. If selling your spot to another competitor please email the match director at the email address listed below for more information. \nMatch Timeline: \nCheck-in Time:07:30-08:30\nZero Time:08:00-0830\nSquad RO Stage Walkthrough:08:45\nSafety Brief:08:30\nMatch Start:09:00\nAwards:TBD
URL:https://nrl22.com/match/nrl22x-terrell-tx/
LOCATION:North East Texas Tactical\, 5701 Farm to Market Road 2578\, TERRELL\, TX\, 75160\, United States
CATEGORIES:NRL22X
ATTACH;FMTTYPE=image/png:https://nrl22.com/wp-content/uploads/2024/04/NRL22X-Logo.png
ORGANIZER;CN="Adam Morgan":MAILTO:Adam@northeasttexastactical.com
GEO:32.6478655;-96.3603917
X-APPLE-STRUCTURED-LOCATION;VALUE=URI;X-ADDRESS=North East Texas Tactical 5701 Farm to Market Road 2578 TERRELL TX 75160 United States;X-APPLE-RADIUS=500;X-TITLE=5701 Farm to Market Road 2578:geo:-96.3603917,32.6478655
END:VEVENT
END:VCALENDAR