
BEGIN:VCALENDAR
VERSION:2.0
PRODID:-//NRL22 - ECPv6.15.20//NONSGML v1.0//EN
CALSCALE:GREGORIAN
METHOD:PUBLISH
X-WR-CALNAME:NRL22
X-ORIGINAL-URL:https://nrl22.com
X-WR-CALDESC:Events for NRL22
REFRESH-INTERVAL;VALUE=DURATION:PT1H
X-Robots-Tag:noindex
X-PUBLISHED-TTL:PT1H
BEGIN:VTIMEZONE
TZID:America/New_York
BEGIN:DAYLIGHT
TZOFFSETFROM:-0500
TZOFFSETTO:-0400
TZNAME:EDT
DTSTART:20250309T070000
END:DAYLIGHT
BEGIN:STANDARD
TZOFFSETFROM:-0400
TZOFFSETTO:-0500
TZNAME:EST
DTSTART:20251102T060000
END:STANDARD
BEGIN:DAYLIGHT
TZOFFSETFROM:-0500
TZOFFSETTO:-0400
TZNAME:EDT
DTSTART:20260308T070000
END:DAYLIGHT
BEGIN:STANDARD
TZOFFSETFROM:-0400
TZOFFSETTO:-0500
TZNAME:EST
DTSTART:20261101T060000
END:STANDARD
BEGIN:DAYLIGHT
TZOFFSETFROM:-0500
TZOFFSETTO:-0400
TZNAME:EDT
DTSTART:20270314T070000
END:DAYLIGHT
BEGIN:STANDARD
TZOFFSETFROM:-0400
TZOFFSETTO:-0500
TZNAME:EST
DTSTART:20271107T060000
END:STANDARD
END:VTIMEZONE
BEGIN:VEVENT
DTSTART;TZID=America/New_York:20260328T070000
DTEND;TZID=America/New_York:20260328T140000
DTSTAMP:20260421T035243
CREATED:20260303T212744Z
LAST-MODIFIED:20260303T213213Z
UID:10003042-1774681200-1774706400@nrl22.com
SUMMARY:Cohutta Pines NRL22
DESCRIPTION:Each month Cohutta Pines NRL22 hosts five NRL22 stages. These matches are typically held on the fourth Saturday of the month but watch the schedule for exceptions. \nRegistration Fees: \n$20 Adults \n$10 Young Guns (17 or under) \nMore information and event registration can be found on PractiScore. (PractiScore accounts are free) \nhttps://practiscore.com/clubs/cohutta_pines
URL:https://nrl22.com/match/cohutta-pines-nrl22/2026-03-28/
LOCATION:Cohutta Pines NRL22\, 367 Old Hwy 2\, Cisco\, GA\, 30708\, United States
CATEGORIES:NRL22
ATTACH;FMTTYPE=image/jpeg:https://nrl22.com/wp-content/uploads/2026/03/CP-Image.jpg
ORGANIZER;CN="Dirk Verhoeff":MAILTO:drcverhoeff@yahoo.com
GEO:34.9494128;-84.7298241
X-APPLE-STRUCTURED-LOCATION;VALUE=URI;X-ADDRESS=Cohutta Pines NRL22 367 Old Hwy 2 Cisco GA 30708 United States;X-APPLE-RADIUS=500;X-TITLE=367 Old Hwy 2:geo:-84.7298241,34.9494128
END:VEVENT
END:VCALENDAR