
BEGIN:VCALENDAR
VERSION:2.0
PRODID:-//NRL22 - ECPv6.15.20//NONSGML v1.0//EN
CALSCALE:GREGORIAN
METHOD:PUBLISH
X-WR-CALNAME:NRL22
X-ORIGINAL-URL:https://nrl22.com
X-WR-CALDESC:Events for NRL22
REFRESH-INTERVAL;VALUE=DURATION:PT1H
X-Robots-Tag:noindex
X-PUBLISHED-TTL:PT1H
BEGIN:VTIMEZONE
TZID:America/Chicago
BEGIN:DAYLIGHT
TZOFFSETFROM:-0600
TZOFFSETTO:-0500
TZNAME:CDT
DTSTART:20250309T080000
END:DAYLIGHT
BEGIN:STANDARD
TZOFFSETFROM:-0500
TZOFFSETTO:-0600
TZNAME:CST
DTSTART:20251102T070000
END:STANDARD
BEGIN:DAYLIGHT
TZOFFSETFROM:-0600
TZOFFSETTO:-0500
TZNAME:CDT
DTSTART:20260308T080000
END:DAYLIGHT
BEGIN:STANDARD
TZOFFSETFROM:-0500
TZOFFSETTO:-0600
TZNAME:CST
DTSTART:20261101T070000
END:STANDARD
BEGIN:DAYLIGHT
TZOFFSETFROM:-0600
TZOFFSETTO:-0500
TZNAME:CDT
DTSTART:20270314T080000
END:DAYLIGHT
BEGIN:STANDARD
TZOFFSETFROM:-0500
TZOFFSETTO:-0600
TZNAME:CST
DTSTART:20271107T070000
END:STANDARD
BEGIN:DAYLIGHT
TZOFFSETFROM:-0600
TZOFFSETTO:-0500
TZNAME:CDT
DTSTART:20280312T080000
END:DAYLIGHT
BEGIN:STANDARD
TZOFFSETFROM:-0500
TZOFFSETTO:-0600
TZNAME:CST
DTSTART:20281105T070000
END:STANDARD
END:VTIMEZONE
BEGIN:VEVENT
DTSTART;VALUE=DATE:20261114
DTEND;VALUE=DATE:20261115
DTSTAMP:20260422T083515
CREATED:20260421T201504Z
LAST-MODIFIED:20260422T010046Z
UID:10003889-1794614400-1794700799@nrl22.com
SUMMARY:NRL22X - Swainsboro\, GA
DESCRIPTION:Match Details:  \nWhat makes this event unique and welcoming? (Coming soon…)\nWill this match be cart friendly? (Coming soon…)\nWhat type of engagements can be expected at this event? (Coming soon…)\nWhat type of lunch will be included? (Coming soon…)\nWill match swag be included and what deadlines apply? (Coming soon…)\nAre there any activities scheduled the day prior? (Coming soon…) \nAdult Price: \nYoung Gun Price: \nNumber of Stages: ?? \nMax Distance: TBD \nRound Count: TBD \nMulligans: TBD \nPrize Table: TBD \nTrophies: TBD \nRefund Policy: This match fee is non-refundable\, but you may sell your spot to another competitor. If selling your spot to another competitor please email the match director at the email address listed below for more information. \nMatch Timeline: \nCheck-in Time:\nZero Time:\nSquad RO Stage Walkthrough:\nSafety Brief:\nMatch Start:\nAwards:
URL:https://nrl22.com/match/nrl22x-swainsboro-ga/
LOCATION:Cool Acres Sporting Camp\, 142 Cool Springs Road\, Swainsboro\, GA\, 30401\, United States
CATEGORIES:NRL22X
ATTACH;FMTTYPE=image/png:https://nrl22.com/wp-content/uploads/2024/04/NRL22X-Logo.png
ORGANIZER;CN="Eric Allread":MAILTO:ejacreat@aol.com
GEO:32.481661;-82.4111253
X-APPLE-STRUCTURED-LOCATION;VALUE=URI;X-ADDRESS=Cool Acres Sporting Camp 142 Cool Springs Road Swainsboro GA 30401 United States;X-APPLE-RADIUS=500;X-TITLE=142 Cool Springs Road:geo:-82.4111253,32.481661
END:VEVENT
BEGIN:VEVENT
DTSTART;VALUE=DATE:20270220
DTEND;VALUE=DATE:20270221
DTSTAMP:20260422T083515
CREATED:20260421T202304Z
LAST-MODIFIED:20260422T010026Z
UID:10003894-1803081600-1803167999@nrl22.com
SUMMARY:NRL22X - Swainsboro\, GA
DESCRIPTION:Match Details:  \nWhat makes this event unique and welcoming? (Coming soon…)\nWill this match be cart friendly? (Coming soon…)\nWhat type of engagements can be expected at this event? (Coming soon…)\nWhat type of lunch will be included? (Coming soon…)\nWill match swag be included and what deadlines apply? (Coming soon…)\nAre there any activities scheduled the day prior? (Coming soon…) \nAdult Price: \nYoung Gun Price: \nNumber of Stages: ?? \nMax Distance: TBD \nRound Count: TBD \nMulligans: TBD \nPrize Table: TBD \nTrophies: TBD \nRefund Policy: This match fee is non-refundable\, but you may sell your spot to another competitor. If selling your spot to another competitor please email the match director at the email address listed below for more information. \nMatch Timeline: \nCheck-in Time:\nZero Time:\nSquad RO Stage Walkthrough:\nSafety Brief:\nMatch Start:\nAwards:
URL:https://nrl22.com/match/nrl22x-swainsboro-ga-2/
LOCATION:Cool Acres Sporting Camp\, 142 Cool Springs Road\, Swainsboro\, GA\, 30401\, United States
CATEGORIES:NRL22X
ATTACH;FMTTYPE=image/png:https://nrl22.com/wp-content/uploads/2024/04/NRL22X-Logo.png
ORGANIZER;CN="Eric Allread":MAILTO:ejacreat@aol.com
GEO:32.481661;-82.4111253
X-APPLE-STRUCTURED-LOCATION;VALUE=URI;X-ADDRESS=Cool Acres Sporting Camp 142 Cool Springs Road Swainsboro GA 30401 United States;X-APPLE-RADIUS=500;X-TITLE=142 Cool Springs Road:geo:-82.4111253,32.481661
END:VEVENT
END:VCALENDAR