
BEGIN:VCALENDAR
VERSION:2.0
PRODID:-//NRL22 - ECPv6.15.20//NONSGML v1.0//EN
CALSCALE:GREGORIAN
METHOD:PUBLISH
X-WR-CALNAME:NRL22
X-ORIGINAL-URL:https://nrl22.com
X-WR-CALDESC:Events for NRL22
REFRESH-INTERVAL;VALUE=DURATION:PT1H
X-Robots-Tag:noindex
X-PUBLISHED-TTL:PT1H
BEGIN:VTIMEZONE
TZID:America/Denver
BEGIN:DAYLIGHT
TZOFFSETFROM:-0700
TZOFFSETTO:-0600
TZNAME:MDT
DTSTART:20250309T090000
END:DAYLIGHT
BEGIN:STANDARD
TZOFFSETFROM:-0600
TZOFFSETTO:-0700
TZNAME:MST
DTSTART:20251102T080000
END:STANDARD
BEGIN:DAYLIGHT
TZOFFSETFROM:-0700
TZOFFSETTO:-0600
TZNAME:MDT
DTSTART:20260308T090000
END:DAYLIGHT
BEGIN:STANDARD
TZOFFSETFROM:-0600
TZOFFSETTO:-0700
TZNAME:MST
DTSTART:20261101T080000
END:STANDARD
BEGIN:DAYLIGHT
TZOFFSETFROM:-0700
TZOFFSETTO:-0600
TZNAME:MDT
DTSTART:20270314T090000
END:DAYLIGHT
BEGIN:STANDARD
TZOFFSETFROM:-0600
TZOFFSETTO:-0700
TZNAME:MST
DTSTART:20271107T080000
END:STANDARD
BEGIN:DAYLIGHT
TZOFFSETFROM:-0700
TZOFFSETTO:-0600
TZNAME:MDT
DTSTART:20280312T090000
END:DAYLIGHT
BEGIN:STANDARD
TZOFFSETFROM:-0600
TZOFFSETTO:-0700
TZNAME:MST
DTSTART:20281105T080000
END:STANDARD
END:VTIMEZONE
BEGIN:VEVENT
DTSTART;TZID=America/Denver:20260517T090000
DTEND;TZID=America/Denver:20260517T150000
DTSTAMP:20260421T122122
CREATED:20260129T152309Z
LAST-MODIFIED:20260214T180901Z
UID:10002835-1779008400-1779030000@nrl22.com
SUMMARY:Heathen Precision 22 LR
DESCRIPTION:NRL22 Monthly COF plus additional bonus stages.
URL:https://nrl22.com/match/heathen-precision-22-lr/2026-05-17/
LOCATION:Heathen Precision .22 LR\, 1649 E 650 N\, Kaysville\, UT\, 84037\, United States
CATEGORIES:NRL22
ATTACH;FMTTYPE=image/png:https://nrl22.com/wp-content/uploads/2026/01/HeathenPrecisionLogo.png
ORGANIZER;CN="Jerry Flannery":MAILTO:heathenprecision22lr@gmail.com
GEO:41.048620893693;-111.90159644106
X-APPLE-STRUCTURED-LOCATION;VALUE=URI;X-ADDRESS=Heathen Precision .22 LR 1649 E 650 N Kaysville UT 84037 United States;X-APPLE-RADIUS=500;X-TITLE=1649 E 650 N:geo:-111.90159644106,41.048620893693
END:VEVENT
BEGIN:VEVENT
DTSTART;TZID=America/Denver:20260621T090000
DTEND;TZID=America/Denver:20260621T150000
DTSTAMP:20260421T122122
CREATED:20260129T152309Z
LAST-MODIFIED:20260214T180901Z
UID:10002836-1782032400-1782054000@nrl22.com
SUMMARY:Heathen Precision 22 LR
DESCRIPTION:NRL22 Monthly COF plus additional bonus stages.
URL:https://nrl22.com/match/heathen-precision-22-lr/2026-06-21/
LOCATION:Heathen Precision .22 LR\, 1649 E 650 N\, Kaysville\, UT\, 84037\, United States
CATEGORIES:NRL22
ATTACH;FMTTYPE=image/png:https://nrl22.com/wp-content/uploads/2026/01/HeathenPrecisionLogo.png
ORGANIZER;CN="Jerry Flannery":MAILTO:heathenprecision22lr@gmail.com
GEO:41.048620893693;-111.90159644106
X-APPLE-STRUCTURED-LOCATION;VALUE=URI;X-ADDRESS=Heathen Precision .22 LR 1649 E 650 N Kaysville UT 84037 United States;X-APPLE-RADIUS=500;X-TITLE=1649 E 650 N:geo:-111.90159644106,41.048620893693
END:VEVENT
BEGIN:VEVENT
DTSTART;TZID=America/Denver:20260719T090000
DTEND;TZID=America/Denver:20260719T150000
DTSTAMP:20260421T122122
CREATED:20260129T152309Z
LAST-MODIFIED:20260214T180901Z
UID:10002837-1784451600-1784473200@nrl22.com
SUMMARY:Heathen Precision 22 LR
DESCRIPTION:NRL22 Monthly COF plus additional bonus stages.
URL:https://nrl22.com/match/heathen-precision-22-lr/2026-07-19/
LOCATION:Heathen Precision .22 LR\, 1649 E 650 N\, Kaysville\, UT\, 84037\, United States
CATEGORIES:NRL22
ATTACH;FMTTYPE=image/png:https://nrl22.com/wp-content/uploads/2026/01/HeathenPrecisionLogo.png
ORGANIZER;CN="Jerry Flannery":MAILTO:heathenprecision22lr@gmail.com
GEO:41.048620893693;-111.90159644106
X-APPLE-STRUCTURED-LOCATION;VALUE=URI;X-ADDRESS=Heathen Precision .22 LR 1649 E 650 N Kaysville UT 84037 United States;X-APPLE-RADIUS=500;X-TITLE=1649 E 650 N:geo:-111.90159644106,41.048620893693
END:VEVENT
BEGIN:VEVENT
DTSTART;TZID=America/Denver:20260816T090000
DTEND;TZID=America/Denver:20260816T150000
DTSTAMP:20260421T122122
CREATED:20260129T152309Z
LAST-MODIFIED:20260214T180901Z
UID:10002838-1786870800-1786892400@nrl22.com
SUMMARY:Heathen Precision 22 LR
DESCRIPTION:NRL22 Monthly COF plus additional bonus stages.
URL:https://nrl22.com/match/heathen-precision-22-lr/2026-08-16/
LOCATION:Heathen Precision .22 LR\, 1649 E 650 N\, Kaysville\, UT\, 84037\, United States
CATEGORIES:NRL22
ATTACH;FMTTYPE=image/png:https://nrl22.com/wp-content/uploads/2026/01/HeathenPrecisionLogo.png
ORGANIZER;CN="Jerry Flannery":MAILTO:heathenprecision22lr@gmail.com
GEO:41.048620893693;-111.90159644106
X-APPLE-STRUCTURED-LOCATION;VALUE=URI;X-ADDRESS=Heathen Precision .22 LR 1649 E 650 N Kaysville UT 84037 United States;X-APPLE-RADIUS=500;X-TITLE=1649 E 650 N:geo:-111.90159644106,41.048620893693
END:VEVENT
BEGIN:VEVENT
DTSTART;TZID=America/Denver:20260920T090000
DTEND;TZID=America/Denver:20260920T150000
DTSTAMP:20260421T122122
CREATED:20260129T152309Z
LAST-MODIFIED:20260214T180901Z
UID:10002839-1789894800-1789916400@nrl22.com
SUMMARY:Heathen Precision 22 LR
DESCRIPTION:NRL22 Monthly COF plus additional bonus stages.
URL:https://nrl22.com/match/heathen-precision-22-lr/2026-09-20/
LOCATION:Heathen Precision .22 LR\, 1649 E 650 N\, Kaysville\, UT\, 84037\, United States
CATEGORIES:NRL22
ATTACH;FMTTYPE=image/png:https://nrl22.com/wp-content/uploads/2026/01/HeathenPrecisionLogo.png
ORGANIZER;CN="Jerry Flannery":MAILTO:heathenprecision22lr@gmail.com
GEO:41.048620893693;-111.90159644106
X-APPLE-STRUCTURED-LOCATION;VALUE=URI;X-ADDRESS=Heathen Precision .22 LR 1649 E 650 N Kaysville UT 84037 United States;X-APPLE-RADIUS=500;X-TITLE=1649 E 650 N:geo:-111.90159644106,41.048620893693
END:VEVENT
BEGIN:VEVENT
DTSTART;TZID=America/Denver:20261018T090000
DTEND;TZID=America/Denver:20261018T150000
DTSTAMP:20260421T122122
CREATED:20260129T152309Z
LAST-MODIFIED:20260214T180901Z
UID:10002840-1792314000-1792335600@nrl22.com
SUMMARY:Heathen Precision 22 LR
DESCRIPTION:NRL22 Monthly COF plus additional bonus stages.
URL:https://nrl22.com/match/heathen-precision-22-lr/2026-10-18/
LOCATION:Heathen Precision .22 LR\, 1649 E 650 N\, Kaysville\, UT\, 84037\, United States
CATEGORIES:NRL22
ATTACH;FMTTYPE=image/png:https://nrl22.com/wp-content/uploads/2026/01/HeathenPrecisionLogo.png
ORGANIZER;CN="Jerry Flannery":MAILTO:heathenprecision22lr@gmail.com
GEO:41.048620893693;-111.90159644106
X-APPLE-STRUCTURED-LOCATION;VALUE=URI;X-ADDRESS=Heathen Precision .22 LR 1649 E 650 N Kaysville UT 84037 United States;X-APPLE-RADIUS=500;X-TITLE=1649 E 650 N:geo:-111.90159644106,41.048620893693
END:VEVENT
BEGIN:VEVENT
DTSTART;TZID=America/Denver:20261115T090000
DTEND;TZID=America/Denver:20261115T150000
DTSTAMP:20260421T122122
CREATED:20260129T152309Z
LAST-MODIFIED:20260214T180901Z
UID:10002841-1794733200-1794754800@nrl22.com
SUMMARY:Heathen Precision 22 LR
DESCRIPTION:NRL22 Monthly COF plus additional bonus stages.
URL:https://nrl22.com/match/heathen-precision-22-lr/2026-11-15/
LOCATION:Heathen Precision .22 LR\, 1649 E 650 N\, Kaysville\, UT\, 84037\, United States
CATEGORIES:NRL22
ATTACH;FMTTYPE=image/png:https://nrl22.com/wp-content/uploads/2026/01/HeathenPrecisionLogo.png
ORGANIZER;CN="Jerry Flannery":MAILTO:heathenprecision22lr@gmail.com
GEO:41.048620893693;-111.90159644106
X-APPLE-STRUCTURED-LOCATION;VALUE=URI;X-ADDRESS=Heathen Precision .22 LR 1649 E 650 N Kaysville UT 84037 United States;X-APPLE-RADIUS=500;X-TITLE=1649 E 650 N:geo:-111.90159644106,41.048620893693
END:VEVENT
BEGIN:VEVENT
DTSTART;TZID=America/Denver:20261220T090000
DTEND;TZID=America/Denver:20261220T150000
DTSTAMP:20260421T122122
CREATED:20260129T152309Z
LAST-MODIFIED:20260214T180901Z
UID:10002842-1797757200-1797778800@nrl22.com
SUMMARY:Heathen Precision 22 LR
DESCRIPTION:NRL22 Monthly COF plus additional bonus stages.
URL:https://nrl22.com/match/heathen-precision-22-lr/2026-12-20/
LOCATION:Heathen Precision .22 LR\, 1649 E 650 N\, Kaysville\, UT\, 84037\, United States
CATEGORIES:NRL22
ATTACH;FMTTYPE=image/png:https://nrl22.com/wp-content/uploads/2026/01/HeathenPrecisionLogo.png
ORGANIZER;CN="Jerry Flannery":MAILTO:heathenprecision22lr@gmail.com
GEO:41.048620893693;-111.90159644106
X-APPLE-STRUCTURED-LOCATION;VALUE=URI;X-ADDRESS=Heathen Precision .22 LR 1649 E 650 N Kaysville UT 84037 United States;X-APPLE-RADIUS=500;X-TITLE=1649 E 650 N:geo:-111.90159644106,41.048620893693
END:VEVENT
BEGIN:VEVENT
DTSTART;TZID=America/Denver:20270117T090000
DTEND;TZID=America/Denver:20270117T150000
DTSTAMP:20260421T122122
CREATED:20260129T152309Z
LAST-MODIFIED:20260214T180901Z
UID:10002843-1800176400-1800198000@nrl22.com
SUMMARY:Heathen Precision 22 LR
DESCRIPTION:NRL22 Monthly COF plus additional bonus stages.
URL:https://nrl22.com/match/heathen-precision-22-lr/2027-01-17/
LOCATION:Heathen Precision .22 LR\, 1649 E 650 N\, Kaysville\, UT\, 84037\, United States
CATEGORIES:NRL22
ATTACH;FMTTYPE=image/png:https://nrl22.com/wp-content/uploads/2026/01/HeathenPrecisionLogo.png
ORGANIZER;CN="Jerry Flannery":MAILTO:heathenprecision22lr@gmail.com
GEO:41.048620893693;-111.90159644106
X-APPLE-STRUCTURED-LOCATION;VALUE=URI;X-ADDRESS=Heathen Precision .22 LR 1649 E 650 N Kaysville UT 84037 United States;X-APPLE-RADIUS=500;X-TITLE=1649 E 650 N:geo:-111.90159644106,41.048620893693
END:VEVENT
BEGIN:VEVENT
DTSTART;TZID=America/Denver:20270221T090000
DTEND;TZID=America/Denver:20270221T150000
DTSTAMP:20260421T122122
CREATED:20260129T152309Z
LAST-MODIFIED:20260214T180901Z
UID:10002844-1803200400-1803222000@nrl22.com
SUMMARY:Heathen Precision 22 LR
DESCRIPTION:NRL22 Monthly COF plus additional bonus stages.
URL:https://nrl22.com/match/heathen-precision-22-lr/2027-02-21/
LOCATION:Heathen Precision .22 LR\, 1649 E 650 N\, Kaysville\, UT\, 84037\, United States
CATEGORIES:NRL22
ATTACH;FMTTYPE=image/png:https://nrl22.com/wp-content/uploads/2026/01/HeathenPrecisionLogo.png
ORGANIZER;CN="Jerry Flannery":MAILTO:heathenprecision22lr@gmail.com
GEO:41.048620893693;-111.90159644106
X-APPLE-STRUCTURED-LOCATION;VALUE=URI;X-ADDRESS=Heathen Precision .22 LR 1649 E 650 N Kaysville UT 84037 United States;X-APPLE-RADIUS=500;X-TITLE=1649 E 650 N:geo:-111.90159644106,41.048620893693
END:VEVENT
BEGIN:VEVENT
DTSTART;TZID=America/Denver:20270321T090000
DTEND;TZID=America/Denver:20270321T150000
DTSTAMP:20260421T122122
CREATED:20260129T152309Z
LAST-MODIFIED:20260214T180901Z
UID:10002845-1805619600-1805641200@nrl22.com
SUMMARY:Heathen Precision 22 LR
DESCRIPTION:NRL22 Monthly COF plus additional bonus stages.
URL:https://nrl22.com/match/heathen-precision-22-lr/2027-03-21/
LOCATION:Heathen Precision .22 LR\, 1649 E 650 N\, Kaysville\, UT\, 84037\, United States
CATEGORIES:NRL22
ATTACH;FMTTYPE=image/png:https://nrl22.com/wp-content/uploads/2026/01/HeathenPrecisionLogo.png
ORGANIZER;CN="Jerry Flannery":MAILTO:heathenprecision22lr@gmail.com
GEO:41.048620893693;-111.90159644106
X-APPLE-STRUCTURED-LOCATION;VALUE=URI;X-ADDRESS=Heathen Precision .22 LR 1649 E 650 N Kaysville UT 84037 United States;X-APPLE-RADIUS=500;X-TITLE=1649 E 650 N:geo:-111.90159644106,41.048620893693
END:VEVENT
BEGIN:VEVENT
DTSTART;TZID=America/Denver:20270418T090000
DTEND;TZID=America/Denver:20270418T150000
DTSTAMP:20260421T122122
CREATED:20260129T152309Z
LAST-MODIFIED:20260214T180901Z
UID:10002846-1808038800-1808060400@nrl22.com
SUMMARY:Heathen Precision 22 LR
DESCRIPTION:NRL22 Monthly COF plus additional bonus stages.
URL:https://nrl22.com/match/heathen-precision-22-lr/2027-04-18/
LOCATION:Heathen Precision .22 LR\, 1649 E 650 N\, Kaysville\, UT\, 84037\, United States
CATEGORIES:NRL22
ATTACH;FMTTYPE=image/png:https://nrl22.com/wp-content/uploads/2026/01/HeathenPrecisionLogo.png
ORGANIZER;CN="Jerry Flannery":MAILTO:heathenprecision22lr@gmail.com
GEO:41.048620893693;-111.90159644106
X-APPLE-STRUCTURED-LOCATION;VALUE=URI;X-ADDRESS=Heathen Precision .22 LR 1649 E 650 N Kaysville UT 84037 United States;X-APPLE-RADIUS=500;X-TITLE=1649 E 650 N:geo:-111.90159644106,41.048620893693
END:VEVENT
END:VCALENDAR