
BEGIN:VCALENDAR
VERSION:2.0
PRODID:-//NRL22 - ECPv6.15.20//NONSGML v1.0//EN
CALSCALE:GREGORIAN
METHOD:PUBLISH
X-WR-CALNAME:NRL22
X-ORIGINAL-URL:https://nrl22.com
X-WR-CALDESC:Events for NRL22
REFRESH-INTERVAL;VALUE=DURATION:PT1H
X-Robots-Tag:noindex
X-PUBLISHED-TTL:PT1H
BEGIN:VTIMEZONE
TZID:America/Chicago
BEGIN:DAYLIGHT
TZOFFSETFROM:-0600
TZOFFSETTO:-0500
TZNAME:CDT
DTSTART:20250309T080000
END:DAYLIGHT
BEGIN:STANDARD
TZOFFSETFROM:-0500
TZOFFSETTO:-0600
TZNAME:CST
DTSTART:20251102T070000
END:STANDARD
BEGIN:DAYLIGHT
TZOFFSETFROM:-0600
TZOFFSETTO:-0500
TZNAME:CDT
DTSTART:20260308T080000
END:DAYLIGHT
BEGIN:STANDARD
TZOFFSETFROM:-0500
TZOFFSETTO:-0600
TZNAME:CST
DTSTART:20261101T070000
END:STANDARD
BEGIN:DAYLIGHT
TZOFFSETFROM:-0600
TZOFFSETTO:-0500
TZNAME:CDT
DTSTART:20270314T080000
END:DAYLIGHT
BEGIN:STANDARD
TZOFFSETFROM:-0500
TZOFFSETTO:-0600
TZNAME:CST
DTSTART:20271107T070000
END:STANDARD
END:VTIMEZONE
BEGIN:VEVENT
DTSTART;VALUE=DATE:20260418
DTEND;VALUE=DATE:20260419
DTSTAMP:20260422T191607
CREATED:20250401T185348Z
LAST-MODIFIED:20260218T050431Z
UID:10000174-1776470400-1776556799@nrl22.com
SUMMARY:Princess Party Birthday Bash NRL22X – (Nashville\, IN\, USA)
DESCRIPTION:Match Details: \nThe NRL22X match you’ve all been waiting for. What could possibly be better than last year’s Spool-A-Palooza? THE PRINCESS PARTY BIRTHDAY BASH! \nEveryone loves a kiddo birthday party. Unicorns. Tiaras. Pink everything. Balloons. Cupcakes with sprinkles. Party hats. Non-copyright infringing cartoon characters. Glitter. So much glitter… And now – as a rifle match! \n10 Stages of Rimfire in the hills of Brown County\, Indiana. A tasteful mix of woods stages and open field stages. 105 second par times and most stages being 10 rounds (max 14 rounds per stage). The range is conveniently located close to I-65 between Columbus and Nashville. Targets out to 275 yards. \nCamping? YES. This year we will again offer primitive camping on Friday and Saturday nights at the range. It is completely unpowered and unsupported. We cannot accommodate RVs. The driveway in is steep (much less steep than last year!) and your RV will not make it out. That said\, there is an RV campground at the other end of Camp Moneto Road (https://www.awayadayrvcampground.com/booking)\, so RVers can stay very close. We will have a bonfire (weather permitting). \nTrophies? Of course. Trophies will be awarded to the Top 3 Overall finishers as well as Top Lady\, Top Young Gun\, Top Old Gun\, Top Base\, Top Semiauto & Top Air Rifle [Provided there are at least 3 shooters in the division registered 2 weeks prior to the match. If there are not 3\, those trophies will go toward overall match finisher positions so we can go deeper than Top 3] \nWe will have sight in paper targets at 50y. Then limited steel between 100-300y yards for dope verification. No match props or targets may be used during the sight in. \nNRL22X rules apply. Due to safety issues at other matches\, all shooters need an empty chamber indicator that inserts into the chamber (i.e.\, a mag block is not sufficient). We will have extras if you need one. \nWhat makes this event unique and welcoming? See\, supra.\nWill this match be cart friendly? We will be shooting at 2 different ranges on the club grounds. Some stages will have a max round count of 14 so it is highly encouraged to have magazine extensions\, or you’ll be required to conduct magazine changes. A cart could be useful as we will be using 2 different ranges\, but they are 80 yards apart so it is also overkill and physical range space is limited.\nWhat type of engagements can be expected at this event? Targets out to 275 yards. 105 second par times. Max of 14 rounds per stage.\nWhat type of lunch will be included? Yes\, we’re having lunch – it’s included in your match fee. Hoosier Tenderloin sandwich boxes. These are the iconic\, unofficial state sandwich of Indiana. One of the best comes from Gnaw Mart\, a local spot about a ½ mile from the range.\nWill match swag be included and what deadlines apply? None.\nAre there any activities scheduled the day prior? None. \nAdult Price: $55 \nYoung Gun Price: $55 \nNumber of Stages:10 \nMax Distance: 275 yards \nRound Count: TBD \nMulligans: $10 day of match. Limit 1 per shooter \nPrize Table: None. \nTrophies: Absolutely \nRefund Policy: This match fee is non-refundable\, but you may sell your spot to another competitor. If selling your spot to another competitor please email the match director at the email address listed below for more information. \nMatch Timeline:\nSaturday\, April 18\, 2027\n7:00 AM – Check-in opens\n7:02 AM – Zero Range opens (sunrise)\n8:00 AM – Squad RO Walkthrough\n8:15 AM – Mandatory Safety Briefing\n8:30 AM – Match Starts\nLUNCH – served to your squad while you shoot\nAwards will occur directly after the match is finished. \nQuestions: For any questions\, please contact the Match Director at P.AndrewJansen@gmail.com
URL:https://nrl22.com/match/nrl22x-nashville-in-usa/
LOCATION:Hoosier Hills Rifle and Pistol Club\, 400-698 Camp Moneto Rd\, NASHVILLE\, IN\, 47448\, United States
CATEGORIES:NRL22X
ATTACH;FMTTYPE=image/jpeg:https://nrl22.com/wp-content/uploads/2025/04/Birthday-Bash-logo-1.jpg
ORGANIZER;CN="Paul Jansen":MAILTO:P.ANDREWJANSEN@GMAIL.COM
GEO:39.1966252;-86.1404527
X-APPLE-STRUCTURED-LOCATION;VALUE=URI;X-ADDRESS=Hoosier Hills Rifle and Pistol Club 400-698 Camp Moneto Rd NASHVILLE IN 47448 United States;X-APPLE-RADIUS=500;X-TITLE=400-698 Camp Moneto Rd:geo:-86.1404527,39.1966252
END:VEVENT
END:VCALENDAR