
BEGIN:VCALENDAR
VERSION:2.0
PRODID:-//NRL22 - ECPv6.15.20//NONSGML v1.0//EN
CALSCALE:GREGORIAN
METHOD:PUBLISH
X-WR-CALNAME:NRL22
X-ORIGINAL-URL:https://nrl22.com
X-WR-CALDESC:Events for NRL22
REFRESH-INTERVAL;VALUE=DURATION:PT1H
X-Robots-Tag:noindex
X-PUBLISHED-TTL:PT1H
BEGIN:VTIMEZONE
TZID:America/Los_Angeles
BEGIN:DAYLIGHT
TZOFFSETFROM:-0800
TZOFFSETTO:-0700
TZNAME:PDT
DTSTART:20250309T100000
END:DAYLIGHT
BEGIN:STANDARD
TZOFFSETFROM:-0700
TZOFFSETTO:-0800
TZNAME:PST
DTSTART:20251102T090000
END:STANDARD
BEGIN:DAYLIGHT
TZOFFSETFROM:-0800
TZOFFSETTO:-0700
TZNAME:PDT
DTSTART:20260308T100000
END:DAYLIGHT
BEGIN:STANDARD
TZOFFSETFROM:-0700
TZOFFSETTO:-0800
TZNAME:PST
DTSTART:20261101T090000
END:STANDARD
BEGIN:DAYLIGHT
TZOFFSETFROM:-0800
TZOFFSETTO:-0700
TZNAME:PDT
DTSTART:20270314T100000
END:DAYLIGHT
BEGIN:STANDARD
TZOFFSETFROM:-0700
TZOFFSETTO:-0800
TZNAME:PST
DTSTART:20271107T090000
END:STANDARD
END:VTIMEZONE
BEGIN:VEVENT
DTSTART;TZID=America/Los_Angeles:20260111T090000
DTEND;TZID=America/Los_Angeles:20260111T130000
DTSTAMP:20260423T022713
CREATED:20260111T232402Z
LAST-MODIFIED:20260111T232402Z
UID:10002473-1768122000-1768136400@nrl22.com
SUMMARY:Rattlesnake NRL22 Match Jan 2026
DESCRIPTION:The monthly course of fire can be found on NRL22.com. Each month the COF will contain 5 stages. Sign-in and set-up starts at 9\, matches at 10:30-11:00\, $20.00 per shooter\, youths shoot for free.
URL:https://nrl22.com/match/rattlesnake-nrl22-match-jan-2026/
LOCATION:RattleSnake Mountain Precision Rifle\, 93315 N\, WA-225\, Benton City\, WA\, 99320\, United States
CATEGORIES:NRL22
ATTACH;FMTTYPE=image/jpeg:https://nrl22.com/wp-content/uploads/2026/01/Rattle-and-NRL-Combo.jpg
ORGANIZER;CN="Scott Downing":MAILTO:wooddigedydog@gmail.com
GEO:46.354593;-119.463949
X-APPLE-STRUCTURED-LOCATION;VALUE=URI;X-ADDRESS=RattleSnake Mountain Precision Rifle 93315 N WA-225 Benton City WA 99320 United States;X-APPLE-RADIUS=500;X-TITLE=93315 N\, WA-225:geo:-119.463949,46.354593
END:VEVENT
END:VCALENDAR