
BEGIN:VCALENDAR
VERSION:2.0
PRODID:-//NRL22 - ECPv6.15.20//NONSGML v1.0//EN
CALSCALE:GREGORIAN
METHOD:PUBLISH
X-WR-CALNAME:NRL22
X-ORIGINAL-URL:https://nrl22.com
X-WR-CALDESC:Events for NRL22
REFRESH-INTERVAL;VALUE=DURATION:PT1H
X-Robots-Tag:noindex
X-PUBLISHED-TTL:PT1H
BEGIN:VTIMEZONE
TZID:America/New_York
BEGIN:DAYLIGHT
TZOFFSETFROM:-0500
TZOFFSETTO:-0400
TZNAME:EDT
DTSTART:20240310T070000
END:DAYLIGHT
BEGIN:STANDARD
TZOFFSETFROM:-0400
TZOFFSETTO:-0500
TZNAME:EST
DTSTART:20241103T060000
END:STANDARD
BEGIN:DAYLIGHT
TZOFFSETFROM:-0500
TZOFFSETTO:-0400
TZNAME:EDT
DTSTART:20250309T070000
END:DAYLIGHT
BEGIN:STANDARD
TZOFFSETFROM:-0400
TZOFFSETTO:-0500
TZNAME:EST
DTSTART:20251102T060000
END:STANDARD
BEGIN:DAYLIGHT
TZOFFSETFROM:-0500
TZOFFSETTO:-0400
TZNAME:EDT
DTSTART:20260308T070000
END:DAYLIGHT
BEGIN:STANDARD
TZOFFSETFROM:-0400
TZOFFSETTO:-0500
TZNAME:EST
DTSTART:20261101T060000
END:STANDARD
BEGIN:DAYLIGHT
TZOFFSETFROM:-0500
TZOFFSETTO:-0400
TZNAME:EDT
DTSTART:20270314T070000
END:DAYLIGHT
BEGIN:STANDARD
TZOFFSETFROM:-0400
TZOFFSETTO:-0500
TZNAME:EST
DTSTART:20271107T060000
END:STANDARD
END:VTIMEZONE
BEGIN:VEVENT
DTSTART;TZID=America/New_York:20260419T100000
DTEND;TZID=America/New_York:20260419T130000
DTSTAMP:20260422T094008
CREATED:20250423T011346Z
LAST-MODIFIED:20251223T154705Z
UID:10002270-1776592800-1776603600@nrl22.com
SUMMARY:Deer Creek Conservation Club NRL22 COF
DESCRIPTION:Monthly NRL22 Match \nRegistration can be found at https://practiscore.com/clubs/deer_creek_conservation_club
URL:https://nrl22.com/match/dccc-nrl22-cof/2026-04-19/
LOCATION:Deer Creek Conservation Club\, 6403 South 375 East\, Jonesboro\, IN\, 46938\, United States
CATEGORIES:NRL22
ATTACH;FMTTYPE=image/jpeg:https://nrl22.com/wp-content/uploads/2024/10/NRL22-Logo-Banner-1.jpg
ORGANIZER;CN="Tony Smith":MAILTO:gc69th@hotmail.com
GEO:40.460564;-85.6019536
X-APPLE-STRUCTURED-LOCATION;VALUE=URI;X-ADDRESS=Deer Creek Conservation Club 6403 South 375 East Jonesboro IN 46938 United States;X-APPLE-RADIUS=500;X-TITLE=6403 South 375 East:geo:-85.6019536,40.460564
END:VEVENT
BEGIN:VEVENT
DTSTART;TZID=America/New_York:20260315T100000
DTEND;TZID=America/New_York:20260315T130000
DTSTAMP:20260422T094008
CREATED:20250423T011346Z
LAST-MODIFIED:20251223T154705Z
UID:10002269-1773568800-1773579600@nrl22.com
SUMMARY:Deer Creek Conservation Club NRL22 COF
DESCRIPTION:Monthly NRL22 Match \nRegistration can be found at https://practiscore.com/clubs/deer_creek_conservation_club
URL:https://nrl22.com/match/dccc-nrl22-cof/2026-03-15/
LOCATION:Deer Creek Conservation Club\, 6403 South 375 East\, Jonesboro\, IN\, 46938\, United States
CATEGORIES:NRL22
ATTACH;FMTTYPE=image/jpeg:https://nrl22.com/wp-content/uploads/2024/10/NRL22-Logo-Banner-1.jpg
ORGANIZER;CN="Tony Smith":MAILTO:gc69th@hotmail.com
GEO:40.460564;-85.6019536
X-APPLE-STRUCTURED-LOCATION;VALUE=URI;X-ADDRESS=Deer Creek Conservation Club 6403 South 375 East Jonesboro IN 46938 United States;X-APPLE-RADIUS=500;X-TITLE=6403 South 375 East:geo:-85.6019536,40.460564
END:VEVENT
BEGIN:VEVENT
DTSTART;TZID=America/New_York:20260215T100000
DTEND;TZID=America/New_York:20260215T130000
DTSTAMP:20260422T094008
CREATED:20250423T011346Z
LAST-MODIFIED:20251223T154705Z
UID:10002268-1771149600-1771160400@nrl22.com
SUMMARY:Deer Creek Conservation Club NRL22 COF
DESCRIPTION:Monthly NRL22 Match \nRegistration can be found at https://practiscore.com/clubs/deer_creek_conservation_club
URL:https://nrl22.com/match/dccc-nrl22-cof/2026-02-15/
LOCATION:Deer Creek Conservation Club\, 6403 South 375 East\, Jonesboro\, IN\, 46938\, United States
CATEGORIES:NRL22
ATTACH;FMTTYPE=image/jpeg:https://nrl22.com/wp-content/uploads/2024/10/NRL22-Logo-Banner-1.jpg
ORGANIZER;CN="Tony Smith":MAILTO:gc69th@hotmail.com
GEO:40.460564;-85.6019536
X-APPLE-STRUCTURED-LOCATION;VALUE=URI;X-ADDRESS=Deer Creek Conservation Club 6403 South 375 East Jonesboro IN 46938 United States;X-APPLE-RADIUS=500;X-TITLE=6403 South 375 East:geo:-85.6019536,40.460564
END:VEVENT
BEGIN:VEVENT
DTSTART;TZID=America/New_York:20260118T100000
DTEND;TZID=America/New_York:20260118T130000
DTSTAMP:20260422T094008
CREATED:20250423T011346Z
LAST-MODIFIED:20251223T154705Z
UID:10002267-1768730400-1768741200@nrl22.com
SUMMARY:Deer Creek Conservation Club NRL22 COF
DESCRIPTION:Monthly NRL22 Match \nRegistration can be found at https://practiscore.com/clubs/deer_creek_conservation_club
URL:https://nrl22.com/match/dccc-nrl22-cof/2026-01-18/
LOCATION:Deer Creek Conservation Club\, 6403 South 375 East\, Jonesboro\, IN\, 46938\, United States
CATEGORIES:NRL22
ATTACH;FMTTYPE=image/jpeg:https://nrl22.com/wp-content/uploads/2024/10/NRL22-Logo-Banner-1.jpg
ORGANIZER;CN="Tony Smith":MAILTO:gc69th@hotmail.com
GEO:40.460564;-85.6019536
X-APPLE-STRUCTURED-LOCATION;VALUE=URI;X-ADDRESS=Deer Creek Conservation Club 6403 South 375 East Jonesboro IN 46938 United States;X-APPLE-RADIUS=500;X-TITLE=6403 South 375 East:geo:-85.6019536,40.460564
END:VEVENT
BEGIN:VEVENT
DTSTART;TZID=America/New_York:20251221T100000
DTEND;TZID=America/New_York:20251221T130000
DTSTAMP:20260422T094008
CREATED:20250423T011346Z
LAST-MODIFIED:20251223T154705Z
UID:10002266-1766311200-1766322000@nrl22.com
SUMMARY:Deer Creek Conservation Club NRL22 COF
DESCRIPTION:Monthly NRL22 Match \nRegistration can be found at https://practiscore.com/clubs/deer_creek_conservation_club
URL:https://nrl22.com/match/dccc-nrl22-cof/2025-12-21/
LOCATION:Deer Creek Conservation Club\, 6403 South 375 East\, Jonesboro\, IN\, 46938\, United States
CATEGORIES:NRL22
ATTACH;FMTTYPE=image/jpeg:https://nrl22.com/wp-content/uploads/2024/10/NRL22-Logo-Banner-1.jpg
ORGANIZER;CN="Tony Smith":MAILTO:gc69th@hotmail.com
GEO:40.460564;-85.6019536
X-APPLE-STRUCTURED-LOCATION;VALUE=URI;X-ADDRESS=Deer Creek Conservation Club 6403 South 375 East Jonesboro IN 46938 United States;X-APPLE-RADIUS=500;X-TITLE=6403 South 375 East:geo:-85.6019536,40.460564
END:VEVENT
BEGIN:VEVENT
DTSTART;TZID=America/New_York:20251116T100000
DTEND;TZID=America/New_York:20251116T130000
DTSTAMP:20260422T094008
CREATED:20250423T011346Z
LAST-MODIFIED:20251223T154705Z
UID:10002265-1763287200-1763298000@nrl22.com
SUMMARY:Deer Creek Conservation Club NRL22 COF
DESCRIPTION:Monthly NRL22 Match \nRegistration can be found at https://practiscore.com/clubs/deer_creek_conservation_club
URL:https://nrl22.com/match/dccc-nrl22-cof/2025-11-16/
LOCATION:Deer Creek Conservation Club\, 6403 South 375 East\, Jonesboro\, IN\, 46938\, United States
CATEGORIES:NRL22
ATTACH;FMTTYPE=image/jpeg:https://nrl22.com/wp-content/uploads/2024/10/NRL22-Logo-Banner-1.jpg
ORGANIZER;CN="Tony Smith":MAILTO:gc69th@hotmail.com
GEO:40.460564;-85.6019536
X-APPLE-STRUCTURED-LOCATION;VALUE=URI;X-ADDRESS=Deer Creek Conservation Club 6403 South 375 East Jonesboro IN 46938 United States;X-APPLE-RADIUS=500;X-TITLE=6403 South 375 East:geo:-85.6019536,40.460564
END:VEVENT
BEGIN:VEVENT
DTSTART;TZID=America/New_York:20251019T100000
DTEND;TZID=America/New_York:20251019T130000
DTSTAMP:20260422T094008
CREATED:20250423T011346Z
LAST-MODIFIED:20251223T154705Z
UID:10002264-1760868000-1760878800@nrl22.com
SUMMARY:Deer Creek Conservation Club NRL22 COF
DESCRIPTION:Monthly NRL22 Match \nRegistration can be found at https://practiscore.com/clubs/deer_creek_conservation_club
URL:https://nrl22.com/match/dccc-nrl22-cof/2025-10-19/
LOCATION:Deer Creek Conservation Club\, 6403 South 375 East\, Jonesboro\, IN\, 46938\, United States
CATEGORIES:NRL22
ATTACH;FMTTYPE=image/jpeg:https://nrl22.com/wp-content/uploads/2024/10/NRL22-Logo-Banner-1.jpg
ORGANIZER;CN="Tony Smith":MAILTO:gc69th@hotmail.com
GEO:40.460564;-85.6019536
X-APPLE-STRUCTURED-LOCATION;VALUE=URI;X-ADDRESS=Deer Creek Conservation Club 6403 South 375 East Jonesboro IN 46938 United States;X-APPLE-RADIUS=500;X-TITLE=6403 South 375 East:geo:-85.6019536,40.460564
END:VEVENT
BEGIN:VEVENT
DTSTART;TZID=America/New_York:20250921T100000
DTEND;TZID=America/New_York:20250921T130000
DTSTAMP:20260422T094008
CREATED:20250423T011346Z
LAST-MODIFIED:20251223T154705Z
UID:10002263-1758448800-1758459600@nrl22.com
SUMMARY:Deer Creek Conservation Club NRL22 COF
DESCRIPTION:Monthly NRL22 Match \nRegistration can be found at https://practiscore.com/clubs/deer_creek_conservation_club
URL:https://nrl22.com/match/dccc-nrl22-cof/2025-09-21/
LOCATION:Deer Creek Conservation Club\, 6403 South 375 East\, Jonesboro\, IN\, 46938\, United States
CATEGORIES:NRL22
ATTACH;FMTTYPE=image/jpeg:https://nrl22.com/wp-content/uploads/2024/10/NRL22-Logo-Banner-1.jpg
ORGANIZER;CN="Tony Smith":MAILTO:gc69th@hotmail.com
GEO:40.460564;-85.6019536
X-APPLE-STRUCTURED-LOCATION;VALUE=URI;X-ADDRESS=Deer Creek Conservation Club 6403 South 375 East Jonesboro IN 46938 United States;X-APPLE-RADIUS=500;X-TITLE=6403 South 375 East:geo:-85.6019536,40.460564
END:VEVENT
BEGIN:VEVENT
DTSTART;TZID=America/New_York:20250817T100000
DTEND;TZID=America/New_York:20250817T130000
DTSTAMP:20260422T094008
CREATED:20250423T011346Z
LAST-MODIFIED:20251223T154705Z
UID:10002262-1755424800-1755435600@nrl22.com
SUMMARY:Deer Creek Conservation Club NRL22 COF
DESCRIPTION:Monthly NRL22 Match \nRegistration can be found at https://practiscore.com/clubs/deer_creek_conservation_club
URL:https://nrl22.com/match/dccc-nrl22-cof/2025-08-17/
LOCATION:Deer Creek Conservation Club\, 6403 South 375 East\, Jonesboro\, IN\, 46938\, United States
CATEGORIES:NRL22
ATTACH;FMTTYPE=image/jpeg:https://nrl22.com/wp-content/uploads/2024/10/NRL22-Logo-Banner-1.jpg
ORGANIZER;CN="Tony Smith":MAILTO:gc69th@hotmail.com
GEO:40.460564;-85.6019536
X-APPLE-STRUCTURED-LOCATION;VALUE=URI;X-ADDRESS=Deer Creek Conservation Club 6403 South 375 East Jonesboro IN 46938 United States;X-APPLE-RADIUS=500;X-TITLE=6403 South 375 East:geo:-85.6019536,40.460564
END:VEVENT
BEGIN:VEVENT
DTSTART;TZID=America/New_York:20250720T100000
DTEND;TZID=America/New_York:20250720T130000
DTSTAMP:20260422T094008
CREATED:20250423T011346Z
LAST-MODIFIED:20251223T154705Z
UID:10002261-1753005600-1753016400@nrl22.com
SUMMARY:Deer Creek Conservation Club NRL22 COF
DESCRIPTION:Monthly NRL22 Match \nRegistration can be found at https://practiscore.com/clubs/deer_creek_conservation_club
URL:https://nrl22.com/match/dccc-nrl22-cof/2025-07-20/
LOCATION:Deer Creek Conservation Club\, 6403 South 375 East\, Jonesboro\, IN\, 46938\, United States
CATEGORIES:NRL22
ATTACH;FMTTYPE=image/jpeg:https://nrl22.com/wp-content/uploads/2024/10/NRL22-Logo-Banner-1.jpg
ORGANIZER;CN="Tony Smith":MAILTO:gc69th@hotmail.com
GEO:40.460564;-85.6019536
X-APPLE-STRUCTURED-LOCATION;VALUE=URI;X-ADDRESS=Deer Creek Conservation Club 6403 South 375 East Jonesboro IN 46938 United States;X-APPLE-RADIUS=500;X-TITLE=6403 South 375 East:geo:-85.6019536,40.460564
END:VEVENT
BEGIN:VEVENT
DTSTART;TZID=America/New_York:20250615T100000
DTEND;TZID=America/New_York:20250615T130000
DTSTAMP:20260422T094008
CREATED:20250423T011346Z
LAST-MODIFIED:20251223T154705Z
UID:10002260-1749981600-1749992400@nrl22.com
SUMMARY:Deer Creek Conservation Club NRL22 COF
DESCRIPTION:Monthly NRL22 Match \nRegistration can be found at https://practiscore.com/clubs/deer_creek_conservation_club
URL:https://nrl22.com/match/dccc-nrl22-cof/2025-06-15/
LOCATION:Deer Creek Conservation Club\, 6403 South 375 East\, Jonesboro\, IN\, 46938\, United States
CATEGORIES:NRL22
ATTACH;FMTTYPE=image/jpeg:https://nrl22.com/wp-content/uploads/2024/10/NRL22-Logo-Banner-1.jpg
ORGANIZER;CN="Tony Smith":MAILTO:gc69th@hotmail.com
GEO:40.460564;-85.6019536
X-APPLE-STRUCTURED-LOCATION;VALUE=URI;X-ADDRESS=Deer Creek Conservation Club 6403 South 375 East Jonesboro IN 46938 United States;X-APPLE-RADIUS=500;X-TITLE=6403 South 375 East:geo:-85.6019536,40.460564
END:VEVENT
BEGIN:VEVENT
DTSTART;TZID=America/New_York:20250518T100000
DTEND;TZID=America/New_York:20250518T130000
DTSTAMP:20260422T094008
CREATED:20250423T011346Z
LAST-MODIFIED:20251223T154705Z
UID:10002259-1747562400-1747573200@nrl22.com
SUMMARY:Deer Creek Conservation Club NRL22 COF
DESCRIPTION:Monthly NRL22 Match \nRegistration can be found at https://practiscore.com/clubs/deer_creek_conservation_club
URL:https://nrl22.com/match/dccc-nrl22-cof/2025-05-18/
LOCATION:Deer Creek Conservation Club\, 6403 South 375 East\, Jonesboro\, IN\, 46938\, United States
CATEGORIES:NRL22
ATTACH;FMTTYPE=image/jpeg:https://nrl22.com/wp-content/uploads/2024/10/NRL22-Logo-Banner-1.jpg
ORGANIZER;CN="Tony Smith":MAILTO:gc69th@hotmail.com
GEO:40.460564;-85.6019536
X-APPLE-STRUCTURED-LOCATION;VALUE=URI;X-ADDRESS=Deer Creek Conservation Club 6403 South 375 East Jonesboro IN 46938 United States;X-APPLE-RADIUS=500;X-TITLE=6403 South 375 East:geo:-85.6019536,40.460564
END:VEVENT
END:VCALENDAR