
BEGIN:VCALENDAR
VERSION:2.0
PRODID:-//NRL22 - ECPv6.15.20//NONSGML v1.0//EN
CALSCALE:GREGORIAN
METHOD:PUBLISH
X-ORIGINAL-URL:https://nrl22.com
X-WR-CALDESC:Events for NRL22
REFRESH-INTERVAL;VALUE=DURATION:PT1H
X-Robots-Tag:noindex
X-PUBLISHED-TTL:PT1H
BEGIN:VTIMEZONE
TZID:America/Chicago
BEGIN:DAYLIGHT
TZOFFSETFROM:-0600
TZOFFSETTO:-0500
TZNAME:CDT
DTSTART:20250309T080000
END:DAYLIGHT
BEGIN:STANDARD
TZOFFSETFROM:-0500
TZOFFSETTO:-0600
TZNAME:CST
DTSTART:20251102T070000
END:STANDARD
BEGIN:DAYLIGHT
TZOFFSETFROM:-0600
TZOFFSETTO:-0500
TZNAME:CDT
DTSTART:20260308T080000
END:DAYLIGHT
BEGIN:STANDARD
TZOFFSETFROM:-0500
TZOFFSETTO:-0600
TZNAME:CST
DTSTART:20261101T070000
END:STANDARD
BEGIN:DAYLIGHT
TZOFFSETFROM:-0600
TZOFFSETTO:-0500
TZNAME:CDT
DTSTART:20270314T080000
END:DAYLIGHT
BEGIN:STANDARD
TZOFFSETFROM:-0500
TZOFFSETTO:-0600
TZNAME:CST
DTSTART:20271107T070000
END:STANDARD
END:VTIMEZONE
BEGIN:VEVENT
DTSTART;VALUE=DATE:20260919
DTEND;VALUE=DATE:20260920
DTSTAMP:20260422T083520
CREATED:20260421T195530Z
LAST-MODIFIED:20260421T195530Z
UID:10003880-1789776000-1789862399@nrl22.com
SUMMARY:NRL22X - Phoenix\, AZ
DESCRIPTION:Match Details:  \nWhat makes this event unique and welcoming? (Coming soon…)\nWill this match be cart friendly? (Coming soon…)\nWhat type of engagements can be expected at this event? (Coming soon…)\nWhat type of lunch will be included? (Coming soon…)\nWill match swag be included and what deadlines apply? (Coming soon…)\nAre there any activities scheduled the day prior? (Coming soon…) \nAdult Price: \nYoung Gun Price: \nNumber of Stages: ?? \nMax Distance: TBD \nRound Count: TBD \nMulligans: TBD \nPrize Table: TBD \nTrophies: TBD \nRefund Policy: This match fee is non-refundable\, but you may sell your spot to another competitor. If selling your spot to another competitor please email the match director at the email address listed below for more information. \nMatch Timeline: \nCheck-in Time:\nZero Time:\nSquad RO Stage Walkthrough:\nSafety Brief:\nMatch Start:\nAwards:
URL:https://nrl22.com/match/nrl22x-phoenix-az/
LOCATION:Arizona Practical Rifle Shooting\, 4044 W Black Canyon Blvd\, Phoenix\, AZ\, 85086\, United States
CATEGORIES:NRL22X
ATTACH;FMTTYPE=image/png:https://nrl22.com/wp-content/uploads/2024/04/NRL22X-Logo.png
ORGANIZER;CN="Wayne Ullrich":MAILTO:wayne@arizonapracticalrifle.com
GEO:33.8053121;-112.1459849
X-APPLE-STRUCTURED-LOCATION;VALUE=URI;X-ADDRESS=Arizona Practical Rifle Shooting 4044 W Black Canyon Blvd Phoenix AZ 85086 United States;X-APPLE-RADIUS=500;X-TITLE=4044 W Black Canyon Blvd:geo:-112.1459849,33.8053121
END:VEVENT
BEGIN:VEVENT
DTSTART;VALUE=DATE:20260920
DTEND;VALUE=DATE:20260921
DTSTAMP:20260422T083520
CREATED:20260421T195604Z
LAST-MODIFIED:20260421T195604Z
UID:10003881-1789862400-1789948799@nrl22.com
SUMMARY:NRL22X - Phoenix\, AZ
DESCRIPTION:Match Details:  \nWhat makes this event unique and welcoming? (Coming soon…)\nWill this match be cart friendly? (Coming soon…)\nWhat type of engagements can be expected at this event? (Coming soon…)\nWhat type of lunch will be included? (Coming soon…)\nWill match swag be included and what deadlines apply? (Coming soon…)\nAre there any activities scheduled the day prior? (Coming soon…) \nAdult Price: \nYoung Gun Price: \nNumber of Stages: ?? \nMax Distance: TBD \nRound Count: TBD \nMulligans: TBD \nPrize Table: TBD \nTrophies: TBD \nRefund Policy: This match fee is non-refundable\, but you may sell your spot to another competitor. If selling your spot to another competitor please email the match director at the email address listed below for more information. \nMatch Timeline: \nCheck-in Time:\nZero Time:\nSquad RO Stage Walkthrough:\nSafety Brief:\nMatch Start:\nAwards:
URL:https://nrl22.com/match/nrl22x-phoenix-az-2/
LOCATION:Arizona Practical Rifle Shooting\, 4044 W Black Canyon Blvd\, Phoenix\, AZ\, 85086\, United States
CATEGORIES:NRL22X
ATTACH;FMTTYPE=image/png:https://nrl22.com/wp-content/uploads/2024/04/NRL22X-Logo.png
ORGANIZER;CN="Wayne Ullrich":MAILTO:wayne@arizonapracticalrifle.com
GEO:33.8053121;-112.1459849
X-APPLE-STRUCTURED-LOCATION;VALUE=URI;X-ADDRESS=Arizona Practical Rifle Shooting 4044 W Black Canyon Blvd Phoenix AZ 85086 United States;X-APPLE-RADIUS=500;X-TITLE=4044 W Black Canyon Blvd:geo:-112.1459849,33.8053121
END:VEVENT
END:VCALENDAR