
BEGIN:VCALENDAR
VERSION:2.0
PRODID:-//NRL22 - ECPv6.15.20//NONSGML v1.0//EN
CALSCALE:GREGORIAN
METHOD:PUBLISH
X-ORIGINAL-URL:https://nrl22.com
X-WR-CALDESC:Events for NRL22
REFRESH-INTERVAL;VALUE=DURATION:PT1H
X-Robots-Tag:noindex
X-PUBLISHED-TTL:PT1H
BEGIN:VTIMEZONE
TZID:America/Denver
BEGIN:DAYLIGHT
TZOFFSETFROM:-0700
TZOFFSETTO:-0600
TZNAME:MDT
DTSTART:20240310T090000
END:DAYLIGHT
BEGIN:STANDARD
TZOFFSETFROM:-0600
TZOFFSETTO:-0700
TZNAME:MST
DTSTART:20241103T080000
END:STANDARD
BEGIN:DAYLIGHT
TZOFFSETFROM:-0700
TZOFFSETTO:-0600
TZNAME:MDT
DTSTART:20250309T090000
END:DAYLIGHT
BEGIN:STANDARD
TZOFFSETFROM:-0600
TZOFFSETTO:-0700
TZNAME:MST
DTSTART:20251102T080000
END:STANDARD
BEGIN:DAYLIGHT
TZOFFSETFROM:-0700
TZOFFSETTO:-0600
TZNAME:MDT
DTSTART:20260308T090000
END:DAYLIGHT
BEGIN:STANDARD
TZOFFSETFROM:-0600
TZOFFSETTO:-0700
TZNAME:MST
DTSTART:20261101T080000
END:STANDARD
END:VTIMEZONE
BEGIN:VEVENT
DTSTART;TZID=America/Denver:20250530T090000
DTEND;TZID=America/Denver:20250601T170000
DTSTAMP:20260421T065918
CREATED:20250324T222853Z
LAST-MODIFIED:20250327T215446Z
UID:10000061-1748595600-1748797200@nrl22.com
SUMMARY:2025 NRL22 National Championship Presented by Savage Arms
DESCRIPTION:Date: May 30 – June 1\, 2025 \nRange Address: Mountain Forged Training Facility at 3464 Mountainview Rd Chewelah\, WA 99109 \nCoordinates: 48.236404823938365\, -117.8802980312047 \nIf you are using Google Maps\, you will need to use the coordinates only. Apple Maps can use either the address or the coordinates. \nMatch Fees: \n\n$275 – Open\, Base\, Ladies\, Air Rifle\, Old Guns\, International\n$175 – Young Guns\n\nNo modifications will be done to the COF \nThis match fee is non-refundable but your purchased spot may be relinquished back to NRL22 to invite another qualifying member. If another invited member accepts your spot\, then a refund minus a 10% re-assignment fee will be issued. \nHow do I qualify to attend the 2025 NRL22 Championship? Scroll all the way down on this page and you’ll see how. \nStages: 20-22. This match will include a FREE helicopter stage where each competitor can shoot an AR-15 at steel targets. This “stage” is not scored for the match. \nRound Count: TBD \nStage Time: TBD \nTarget Distances: TBD \nD.O.P.E. Gathering: TBD \nWill you have practice stages for tune up and DOPE gathering? Yes \nIs there a cost? No- just for side stages \nMore details to come \nWill you have bonus stages to raise money for ROs? If so\, how much and what are they. \nMore details to come \nRange Type: Field style match \nWhat can folks expect during the match i.e. types of props\, are tripods allowed (for our overseas folks)\, etc. – TBD \nFood Details – TBD \nAwards Ceremony:\nThe awards ceremony and dinner will be held on site. \nTrophies:  \nMatch Overall Winner\nNRL22X Series \n\nTop Open\nTop Young Gun\nTop Base\nTop Ladies\nTop Old Gun\nTop Air Rifle\n\nNRL22 Series \n\nTop Open\nTop Young Gun\nTop Base\nTop Ladies\nTop Old Gun\nTop Air Rifle\n\nMatch Divisions \n\nOpen (placements TBD)\nYoung Guns (placements TBD)\nBase (placements TBD)\nLadies (placements TBD)\nOld Gun (placements TBD)\nTop Air Rifle\n\nTop International \nMatch Classifications \n\nExpert (placements TBD)\nSharpshooter (placements TBD)\nMarksman (placements TBD)\nNovice (placements TBD)\n\nPrize Table: TBD on order \n\nHow do I qualify to attend the 2025 NRL22 Championship?  \nYou must have a 2025 NRL22 membership to qualify for the 2025 NRL22 Championship. Invites to the 2025 NRL22 Championship will be based on each Divisions season participation. Individual invites from United States members will be determined by the highest 6 NRL22 monthly scores or highest 3 NRL22X scores. Additionally\, Canadian competitors with an NRL22 membership will be included in the above individual invites. \nThe NRL22 will allocate approximately 10% of the available invites to International NRL22 competitors so that they can attend the Championship. International NRL22 clubs will be responsible to determine which competitors will attend from their country. NRL22 will reach out to each country’s NRL22 Director and let them know how many slots are available. \nOn behalf of Savage Arms\, future sponsors and vendors\, and the NRL22 we thank you for your participation and look forward to seeing you in May! \n\n\nFriday\, May 30th\nVendor setup and RO match (No shooters on the stages during the RO match. Those camping onsite are restricted to the camping areas.) \nD.O.P.E. Gathering – TBD \nCheck-in/fun range day  \nFun Range Day: Zeroing\, DOPE gathering\, stage walkthroughs (No Guns at Stages)\, side stages\, industry vendor tents\, food\, and music. \nSaturday\, May 31st\nZero range open: TBD \nMatch Brief: TBD \nMatch Start: TBD \nLunch: TBD \nPost-match events: TBD \nSunday\, June 1st\nZero range open: TBD \nMatch start: TBD \nBanquet immediately following conclusion of all stages- food will be served starting at TBD until all competitors and registered spectators have eaten \nAwards ceremony and banquet will begin at TBD. The awards ceremony and banquet will be located on site. \n\n\n\n\nVendors That Will Be On-Site\n\n To Be Announced
URL:https://nrl22.com/match/2025-nrl22-national-championship-presented-by-savage-arms/
LOCATION:Mountain Forged Training Facility\, 3464 Mountainview Rd\, Chewelah\, WA\, 99109\, United States
CATEGORIES:National Championship
ATTACH;FMTTYPE=image/png:https://nrl22.com/wp-content/uploads/2024/11/NRL22-Championship-Logo.png
ORGANIZER;CN="Jake Vibbert & NRL22":MAILTO:Jake@vibberttraining.com
GEO:48.236404823938;-117.8802980312
X-APPLE-STRUCTURED-LOCATION;VALUE=URI;X-ADDRESS=Mountain Forged Training Facility 3464 Mountainview Rd Chewelah WA 99109 United States;X-APPLE-RADIUS=500;X-TITLE=3464 Mountainview Rd:geo:-117.8802980312,48.236404823938
END:VEVENT
END:VCALENDAR