
BEGIN:VCALENDAR
VERSION:2.0
PRODID:-//NRL22 - ECPv6.15.20//NONSGML v1.0//EN
CALSCALE:GREGORIAN
METHOD:PUBLISH
X-WR-CALNAME:NRL22
X-ORIGINAL-URL:https://nrl22.com
X-WR-CALDESC:Events for NRL22
REFRESH-INTERVAL;VALUE=DURATION:PT1H
X-Robots-Tag:noindex
X-PUBLISHED-TTL:PT1H
BEGIN:VTIMEZONE
TZID:America/Chicago
BEGIN:DAYLIGHT
TZOFFSETFROM:-0600
TZOFFSETTO:-0500
TZNAME:CDT
DTSTART:20250309T080000
END:DAYLIGHT
BEGIN:STANDARD
TZOFFSETFROM:-0500
TZOFFSETTO:-0600
TZNAME:CST
DTSTART:20251102T070000
END:STANDARD
BEGIN:DAYLIGHT
TZOFFSETFROM:-0600
TZOFFSETTO:-0500
TZNAME:CDT
DTSTART:20260308T080000
END:DAYLIGHT
BEGIN:STANDARD
TZOFFSETFROM:-0500
TZOFFSETTO:-0600
TZNAME:CST
DTSTART:20261101T070000
END:STANDARD
BEGIN:DAYLIGHT
TZOFFSETFROM:-0600
TZOFFSETTO:-0500
TZNAME:CDT
DTSTART:20270314T080000
END:DAYLIGHT
BEGIN:STANDARD
TZOFFSETFROM:-0500
TZOFFSETTO:-0600
TZNAME:CST
DTSTART:20271107T070000
END:STANDARD
END:VTIMEZONE
BEGIN:VTIMEZONE
TZID:America/Denver
BEGIN:DAYLIGHT
TZOFFSETFROM:-0700
TZOFFSETTO:-0600
TZNAME:MDT
DTSTART:20250309T090000
END:DAYLIGHT
BEGIN:STANDARD
TZOFFSETFROM:-0600
TZOFFSETTO:-0700
TZNAME:MST
DTSTART:20251102T080000
END:STANDARD
BEGIN:DAYLIGHT
TZOFFSETFROM:-0700
TZOFFSETTO:-0600
TZNAME:MDT
DTSTART:20260308T090000
END:DAYLIGHT
BEGIN:STANDARD
TZOFFSETFROM:-0600
TZOFFSETTO:-0700
TZNAME:MST
DTSTART:20261101T080000
END:STANDARD
BEGIN:DAYLIGHT
TZOFFSETFROM:-0700
TZOFFSETTO:-0600
TZNAME:MDT
DTSTART:20270314T090000
END:DAYLIGHT
BEGIN:STANDARD
TZOFFSETFROM:-0600
TZOFFSETTO:-0700
TZNAME:MST
DTSTART:20271107T080000
END:STANDARD
END:VTIMEZONE
BEGIN:VTIMEZONE
TZID:America/New_York
BEGIN:DAYLIGHT
TZOFFSETFROM:-0500
TZOFFSETTO:-0400
TZNAME:EDT
DTSTART:20250309T070000
END:DAYLIGHT
BEGIN:STANDARD
TZOFFSETFROM:-0400
TZOFFSETTO:-0500
TZNAME:EST
DTSTART:20251102T060000
END:STANDARD
BEGIN:DAYLIGHT
TZOFFSETFROM:-0500
TZOFFSETTO:-0400
TZNAME:EDT
DTSTART:20260308T070000
END:DAYLIGHT
BEGIN:STANDARD
TZOFFSETFROM:-0400
TZOFFSETTO:-0500
TZNAME:EST
DTSTART:20261101T060000
END:STANDARD
BEGIN:DAYLIGHT
TZOFFSETFROM:-0500
TZOFFSETTO:-0400
TZNAME:EDT
DTSTART:20270314T070000
END:DAYLIGHT
BEGIN:STANDARD
TZOFFSETFROM:-0400
TZOFFSETTO:-0500
TZNAME:EST
DTSTART:20271107T060000
END:STANDARD
END:VTIMEZONE
BEGIN:VTIMEZONE
TZID:America/Los_Angeles
BEGIN:DAYLIGHT
TZOFFSETFROM:-0800
TZOFFSETTO:-0700
TZNAME:PDT
DTSTART:20250309T100000
END:DAYLIGHT
BEGIN:STANDARD
TZOFFSETFROM:-0700
TZOFFSETTO:-0800
TZNAME:PST
DTSTART:20251102T090000
END:STANDARD
BEGIN:DAYLIGHT
TZOFFSETFROM:-0800
TZOFFSETTO:-0700
TZNAME:PDT
DTSTART:20260308T100000
END:DAYLIGHT
BEGIN:STANDARD
TZOFFSETFROM:-0700
TZOFFSETTO:-0800
TZNAME:PST
DTSTART:20261101T090000
END:STANDARD
BEGIN:DAYLIGHT
TZOFFSETFROM:-0800
TZOFFSETTO:-0700
TZNAME:PDT
DTSTART:20270314T100000
END:DAYLIGHT
BEGIN:STANDARD
TZOFFSETFROM:-0700
TZOFFSETTO:-0800
TZNAME:PST
DTSTART:20271107T090000
END:STANDARD
END:VTIMEZONE
BEGIN:VEVENT
DTSTART;TZID=America/Chicago:20260228T083000
DTEND;TZID=America/Chicago:20260228T150000
DTSTAMP:20260419T201736
CREATED:20250430T163943Z
LAST-MODIFIED:20250430T163943Z
UID:10001075-1772267400-1772290800@nrl22.com
SUMMARY:Kentucky Regulators NRL22 Club Match
DESCRIPTION:Each month Kentucky Regulators hosts the NRL22 COF w/ 3 bonus stages. This match typically occurs on the forth Saturday of the month but watch these events and our PractiScore Club for match schedules.
URL:https://nrl22.com/match/kentucky-regulators-nrl22-club-match/2026-02-28/
LOCATION:Kentucky Regulators Gun Club\, 10401 Hopewell Rd\, Boaz\, KY\, 42027\, United States
CATEGORIES:NRL22
ATTACH;FMTTYPE=image/jpeg:https://nrl22.com/wp-content/uploads/2025/04/RR-Banner-3.jpg
ORGANIZER;CN="Todd McBee":MAILTO:mcbeemail@gmail.com
GEO:36.9005135;-88.6115555
X-APPLE-STRUCTURED-LOCATION;VALUE=URI;X-ADDRESS=Kentucky Regulators Gun Club 10401 Hopewell Rd Boaz KY 42027 United States;X-APPLE-RADIUS=500;X-TITLE=10401 Hopewell Rd:geo:-88.6115555,36.9005135
END:VEVENT
BEGIN:VEVENT
DTSTART;TZID=America/Chicago:20260228T090000
DTEND;TZID=America/Chicago:20260228T130000
DTSTAMP:20260419T201736
CREATED:20260213T002129Z
LAST-MODIFIED:20260213T002129Z
UID:10002829-1772269200-1772283600@nrl22.com
SUMMARY:CCSGC NRL22 February COF
DESCRIPTION:We will be shooting the February NRL22 course of fire. Match starts at 10:00am with a safety brief. Sight in at 9:00am and registration at 9:30am. For any questions\, please come early to ask so I can help you to the best of my abilities. You will be required to sign a waiver good for 1 year from the date of signing. Please park in front of the club house and walk to the firing line according to the picture. \nFor any info regarding the match or info to get started please go the Crawford County Sportsman and Gun Club Facebook page and read the post and check out the links. \nMatch fees are $20
URL:https://nrl22.com/match/ccsgc-nrl22-february-cof/
LOCATION:Crawford County Sportsman’s & Gun Club\, 3121 Biddle Road\, Crestline\, OH\, 44827\, United States
CATEGORIES:NRL22
ATTACH;FMTTYPE=image/jpeg:https://nrl22.com/wp-content/uploads/2026/02/305980746_502111801917646_27928372275192693_n.jpg
ORGANIZER;CN="Wyatt Martin":MAILTO:redbeardcustoms25@gmail.com
GEO:40.8185121;-82.8183264
X-APPLE-STRUCTURED-LOCATION;VALUE=URI;X-ADDRESS=Crawford County Sportsman’s & Gun Club 3121 Biddle Road Crestline OH 44827 United States;X-APPLE-RADIUS=500;X-TITLE=3121 Biddle Road:geo:-82.8183264,40.8185121
END:VEVENT
BEGIN:VEVENT
DTSTART;TZID=America/Chicago:20260228T090000
DTEND;TZID=America/Chicago:20260228T140000
DTSTAMP:20260419T201736
CREATED:20250430T163634Z
LAST-MODIFIED:20250430T163634Z
UID:10001015-1772269200-1772287200@nrl22.com
SUMMARY:OKC Gun Club NRL22
DESCRIPTION:This is a monthly NRL22 sanctioned match. There will be 7 stages\, with targets ranging from 25 yards to 100 yards. \nThe NRL course of fire can be found here when published: https://www.okcgunclub.org/smallbore—nrl22.html \nRegistration 8:30am\nMatch starts 9:00am \nMatch fee is $20 \nIf you have any questions\, contact me at:\nPbrandt@yahoo.com
URL:https://nrl22.com/match/okc-gun-club-nrl22/2026-02-28/
LOCATION:Oklahoma City Gun Club\, 24301 N. Hiwassee Rd\, Arcadia\, OK\, 73007\, United States
CATEGORIES:NRL22
ATTACH;FMTTYPE=image/png:https://nrl22.com/wp-content/uploads/2025/04/IMG_0172.png
ORGANIZER;CN="Phillip Brandt":MAILTO:brandt9913@yahoo.com
GEO:35.71888;-97.3008
X-APPLE-STRUCTURED-LOCATION;VALUE=URI;X-ADDRESS=Oklahoma City Gun Club 24301 N. Hiwassee Rd Arcadia OK 73007 United States;X-APPLE-RADIUS=500;X-TITLE=24301 N. Hiwassee Rd:geo:-97.3008,35.71888
END:VEVENT
BEGIN:VEVENT
DTSTART;TZID=America/Denver:20260228T093000
DTEND;TZID=America/Denver:20260228T140000
DTSTAMP:20260419T201736
CREATED:20250615T173538Z
LAST-MODIFIED:20250615T173633Z
UID:10001493-1772271000-1772287200@nrl22.com
SUMMARY:Hobble Creek NRL22
DESCRIPTION:Online Registration can be found on Impact Scoring at this link: https://www.impactscoring.net/club/view?id=65 \nFor more information contact the Match Director: Jim Cannon (linked below)
URL:https://nrl22.com/match/hobble-creek-nrl22/2026-02-28/
LOCATION:Hobble Creek NRL22\, 110 Hobble Creek Rd\, Springville\, UT\, 84663\, United States
CATEGORIES:NRL22
ATTACH;FMTTYPE=image/png:https://nrl22.com/wp-content/uploads/2025/06/scrnli_814rMwh2iBSpG5.png
ORGANIZER;CN="Jim Cannon":MAILTO:22lrmarksmen@gmail.com
GEO:40.1517746;-111.546313
X-APPLE-STRUCTURED-LOCATION;VALUE=URI;X-ADDRESS=Hobble Creek NRL22 110 Hobble Creek Rd Springville UT 84663 United States;X-APPLE-RADIUS=500;X-TITLE=110 Hobble Creek Rd:geo:-111.546313,40.1517746
END:VEVENT
BEGIN:VEVENT
DTSTART;TZID=America/New_York:20260228T093000
DTEND;TZID=America/New_York:20260228T170000
DTSTAMP:20260419T201736
CREATED:20251222T051512Z
LAST-MODIFIED:20251222T051512Z
UID:10002249-1772271000-1772298000@nrl22.com
SUMMARY:Pinetucky February NRL22
DESCRIPTION:Location:\n2096 Greenland Road\nBlythe\, GA 30805 \nRegistration and zero range will open at 8:30am\nShooters meeting is at 9:15am\nShooting starts at 9:30am \nThis is a COLD range- There will be zero tolerance for any muzzle flagging at this match. We will have rifle staging areas available to keep rifles in between stages. Chamber flags are requires (We will have available for $2 each at the match if needed) \nPricing- We will shoot the 5 monthly NRL22 stages\, and 1-2 bonus stages depending on match size. Mover stage highly likely!\nMatch fee $25\nNRL22 Member/ Pinetucky Member/ MIL/ LEO/ First Responder / Medical $20\nYoung Guns Shoot Free with paid adult admission!!! (16 and under on first day of the season) \nThere is NO NEED to go buy a bunch of gear before your first match\, plenty of people will be there to lend out gear. We do now have 2 fully built loaner rifles available to use at the match as well! Anyone is welcome to share them! The only cost associated with using these rifles is the cost of about 70 rounds of .22 ammo available at the match. \n• When is it and where do I find details?\n• www.facebook.com/PinetuckyNRL22 \nRegistration and zero range will open at 8:30am\nShooters meeting is at 9:15am\nShooting starts at 9:30am
URL:https://nrl22.com/match/pinetucky-february-nrl22/
LOCATION:Pinetucky Gun Club (NRL22)\, 2096 Greenland Rd.\, Blythe\, GA\, 30805\, United States
CATEGORIES:NRL22
ATTACH;FMTTYPE=image/jpeg:https://nrl22.com/wp-content/uploads/2025/12/Pinetucky-NRL22-Logo.jpg
ORGANIZER;CN="Greg Cannon":MAILTO:cannon.greg90@gmail.com
GEO:33.3445453;-82.1347692
X-APPLE-STRUCTURED-LOCATION;VALUE=URI;X-ADDRESS=Pinetucky Gun Club (NRL22) 2096 Greenland Rd. Blythe GA 30805 United States;X-APPLE-RADIUS=500;X-TITLE=2096 Greenland Rd.:geo:-82.1347692,33.3445453
END:VEVENT
BEGIN:VEVENT
DTSTART;TZID=America/Los_Angeles:20260228T120000
DTEND;TZID=America/Los_Angeles:20260228T170000
DTSTAMP:20260419T201736
CREATED:20260224T215101Z
LAST-MODIFIED:20260302T035008Z
UID:10002881-1772280000-1772298000@nrl22.com
SUMMARY:NRL22 Canada
DESCRIPTION:Welcome the the NRL22 COF at Summerland. We will be shooting option 1. If you are new to the sport no problem the group of people here will gladly get you set up. \n  \nOnline Registration can be found on PractiScore: https://practiscore.com/clubs/nrl22_canada
URL:https://nrl22.com/match/nrl22-canada/2026-02-28/
LOCATION:Summerland Sportsman’s Association\, Wildhorse Road\, Summerland\, BC\, V0H1Z3\, Canada
CATEGORIES:NRL22
ATTACH;FMTTYPE=image/jpeg:https://nrl22.com/wp-content/uploads/2024/10/NRL22-Logo-Banner-1.jpg
ORGANIZER;CN="Lisa Hertay":MAILTO:lisahertay@gmail.com
GEO:49.651573;-119.7192
X-APPLE-STRUCTURED-LOCATION;VALUE=URI;X-ADDRESS=Summerland Sportsman’s Association Wildhorse Road Summerland BC V0H1Z3 Canada;X-APPLE-RADIUS=500;X-TITLE=Wildhorse Road:geo:-119.7192,49.651573
END:VEVENT
BEGIN:VEVENT
DTSTART;TZID=America/New_York:20260228T130000
DTEND;TZID=America/New_York:20260228T153000
DTSTAMP:20260419T201736
CREATED:20250826T134531Z
LAST-MODIFIED:20260213T214808Z
UID:10002253-1772283600-1772292600@nrl22.com
SUMMARY:Monthly NRL22 match @ Southern Tier Precision!
DESCRIPTION:Welcome to Southern Tier Precision in Alfred\, NY! We have been running NRL22 matches since 2020. \nThis will be the monthly match as published by NRL22\, option 1. \nWe have a loaner rifle for new shooters. This is a great place to get started in the sport! \nMatch fee is $15 cash\, pay upon arrival.
URL:https://nrl22.com/match/monthly-nrl22-match-southern-tier-precision/2026-02-28/
LOCATION:Southern Tier Precision\, 1438 Terbury Rd\, Alfred\, NY\, 14803\, United States
CATEGORIES:NRL22
ATTACH;FMTTYPE=image/jpeg:https://nrl22.com/wp-content/uploads/2024/10/NRL22-Logo-Banner-1.jpg
ORGANIZER;CN="Kenn Burdick":MAILTO:kenn.burdick@gmail.com
GEO:42.2660121;-77.8052459
X-APPLE-STRUCTURED-LOCATION;VALUE=URI;X-ADDRESS=Southern Tier Precision 1438 Terbury Rd Alfred NY 14803 United States;X-APPLE-RADIUS=500;X-TITLE=1438 Terbury Rd:geo:-77.8052459,42.2660121
END:VEVENT
END:VCALENDAR