
BEGIN:VCALENDAR
VERSION:2.0
PRODID:-//NRL22 - ECPv6.15.20//NONSGML v1.0//EN
CALSCALE:GREGORIAN
METHOD:PUBLISH
X-WR-CALNAME:NRL22
X-ORIGINAL-URL:https://nrl22.com
X-WR-CALDESC:Events for NRL22
REFRESH-INTERVAL;VALUE=DURATION:PT1H
X-Robots-Tag:noindex
X-PUBLISHED-TTL:PT1H
BEGIN:VTIMEZONE
TZID:America/Chicago
BEGIN:DAYLIGHT
TZOFFSETFROM:-0600
TZOFFSETTO:-0500
TZNAME:CDT
DTSTART:20240310T080000
END:DAYLIGHT
BEGIN:STANDARD
TZOFFSETFROM:-0500
TZOFFSETTO:-0600
TZNAME:CST
DTSTART:20241103T070000
END:STANDARD
BEGIN:DAYLIGHT
TZOFFSETFROM:-0600
TZOFFSETTO:-0500
TZNAME:CDT
DTSTART:20250309T080000
END:DAYLIGHT
BEGIN:STANDARD
TZOFFSETFROM:-0500
TZOFFSETTO:-0600
TZNAME:CST
DTSTART:20251102T070000
END:STANDARD
BEGIN:DAYLIGHT
TZOFFSETFROM:-0600
TZOFFSETTO:-0500
TZNAME:CDT
DTSTART:20260308T080000
END:DAYLIGHT
BEGIN:STANDARD
TZOFFSETFROM:-0500
TZOFFSETTO:-0600
TZNAME:CST
DTSTART:20261101T070000
END:STANDARD
END:VTIMEZONE
BEGIN:VEVENT
DTSTART;TZID=America/Chicago:20250405T083000
DTEND;TZID=America/Chicago:20250405T133000
DTSTAMP:20260420T162300
CREATED:20260410T044313Z
LAST-MODIFIED:20260410T051345Z
UID:10003553-1743841800-1743859800@nrl22.com
SUMMARY:TN Rimfire NRL22 + Bonus Stages
DESCRIPTION:Each month TN Rimfire NRL22 hosts the 5 NRL22 stages plus 3 bonus club stages for an 8 stage match. These matches are typically held on the first Saturday of the month but watch the schedule for exceptions. \nNRL22 Members receive a discounted price but non-members are always welcome. The range is a members only range but matches are open to the public and everyone is welcome to participate or spectate. \nFirst Time NRL22 match attendees shoot for FREE. \nNRL22 Member Price: \n$20 Adults \n$10 Young Guns (17 or under) \nNon-member price: \n$30 Adults \n$15 Young Guns (17 or under) \nMore information and event registration can be found on Impact Scoring. (Impact Scoring accounts are free) \nhttps://www.impactscoring.net/club/view?id=36
URL:https://nrl22.com/match/__trashed-4/2025-04-05/
LOCATION:TN Rimfire NRL22 – Strategic Edge\, 2613 Highway 270\, Chapel Hill\, TN\, 37034\, United States
CATEGORIES:NRL22
ATTACH;FMTTYPE=image/png:https://nrl22.com/wp-content/uploads/2025/03/TN-Rimfire-Logo-White-Background.png
ORGANIZER;CN="Levi Sanderson":MAILTO:tennesseerimfire@gmail.com
GEO:35.6042245;-86.6756741
X-APPLE-STRUCTURED-LOCATION;VALUE=URI;X-ADDRESS=TN Rimfire NRL22 – Strategic Edge 2613 Highway 270 Chapel Hill TN 37034 United States;X-APPLE-RADIUS=500;X-TITLE=2613 Highway 270:geo:-86.6756741,35.6042245
END:VEVENT
END:VCALENDAR