
BEGIN:VCALENDAR
VERSION:2.0
PRODID:-//NRL22 - ECPv6.15.20//NONSGML v1.0//EN
CALSCALE:GREGORIAN
METHOD:PUBLISH
X-WR-CALNAME:NRL22
X-ORIGINAL-URL:https://nrl22.com
X-WR-CALDESC:Events for NRL22
REFRESH-INTERVAL;VALUE=DURATION:PT1H
X-Robots-Tag:noindex
X-PUBLISHED-TTL:PT1H
BEGIN:VTIMEZONE
TZID:America/New_York
BEGIN:DAYLIGHT
TZOFFSETFROM:-0500
TZOFFSETTO:-0400
TZNAME:EDT
DTSTART:20250309T070000
END:DAYLIGHT
BEGIN:STANDARD
TZOFFSETFROM:-0400
TZOFFSETTO:-0500
TZNAME:EST
DTSTART:20251102T060000
END:STANDARD
BEGIN:DAYLIGHT
TZOFFSETFROM:-0500
TZOFFSETTO:-0400
TZNAME:EDT
DTSTART:20260308T070000
END:DAYLIGHT
BEGIN:STANDARD
TZOFFSETFROM:-0400
TZOFFSETTO:-0500
TZNAME:EST
DTSTART:20261101T060000
END:STANDARD
BEGIN:DAYLIGHT
TZOFFSETFROM:-0500
TZOFFSETTO:-0400
TZNAME:EDT
DTSTART:20270314T070000
END:DAYLIGHT
BEGIN:STANDARD
TZOFFSETFROM:-0400
TZOFFSETTO:-0500
TZNAME:EST
DTSTART:20271107T060000
END:STANDARD
END:VTIMEZONE
BEGIN:VEVENT
DTSTART;TZID=America/New_York:20260426T073000
DTEND;TZID=America/New_York:20260426T123000
DTSTAMP:20260421T105041
CREATED:20250429T171953Z
LAST-MODIFIED:20250429T172011Z
UID:10001001-1777188600-1777206600@nrl22.com
SUMMARY:NRL22 Belton Gun Club
DESCRIPTION:NRL22 monthly matches\, last Sunday of each month at Belton Gun Club on the 300-yard range.
URL:https://nrl22.com/match/nrl22-belton-gun-club/2026-04-26/
LOCATION:Belton Gun Club\, 153 Range Rd.\, Belton\, SC\, 29627\, United States
CATEGORIES:NRL22
ATTACH;FMTTYPE=image/jpeg:https://nrl22.com/wp-content/uploads/2025/04/Screenshot_28-4-2025_192613_beltongunclubinc.wildapricot.org_-1.jpeg
ORGANIZER;CN="Terry Clothier":MAILTO:terryclothier@gmail.com
GEO:34.53794;-82.399293
X-APPLE-STRUCTURED-LOCATION;VALUE=URI;X-ADDRESS=Belton Gun Club 153 Range Rd. Belton SC 29627 United States;X-APPLE-RADIUS=500;X-TITLE=153 Range Rd.:geo:-82.399293,34.53794
END:VEVENT
END:VCALENDAR