
BEGIN:VCALENDAR
VERSION:2.0
PRODID:-//NRL22 - ECPv6.15.20//NONSGML v1.0//EN
CALSCALE:GREGORIAN
METHOD:PUBLISH
X-WR-CALNAME:NRL22
X-ORIGINAL-URL:https://nrl22.com
X-WR-CALDESC:Events for NRL22
REFRESH-INTERVAL;VALUE=DURATION:PT1H
X-Robots-Tag:noindex
X-PUBLISHED-TTL:PT1H
BEGIN:VTIMEZONE
TZID:America/Indiana/Indianapolis
BEGIN:DAYLIGHT
TZOFFSETFROM:-0500
TZOFFSETTO:-0400
TZNAME:EDT
DTSTART:20250309T070000
END:DAYLIGHT
BEGIN:STANDARD
TZOFFSETFROM:-0400
TZOFFSETTO:-0500
TZNAME:EST
DTSTART:20251102T060000
END:STANDARD
BEGIN:DAYLIGHT
TZOFFSETFROM:-0500
TZOFFSETTO:-0400
TZNAME:EDT
DTSTART:20260308T070000
END:DAYLIGHT
BEGIN:STANDARD
TZOFFSETFROM:-0400
TZOFFSETTO:-0500
TZNAME:EST
DTSTART:20261101T060000
END:STANDARD
BEGIN:DAYLIGHT
TZOFFSETFROM:-0500
TZOFFSETTO:-0400
TZNAME:EDT
DTSTART:20270314T070000
END:DAYLIGHT
BEGIN:STANDARD
TZOFFSETFROM:-0400
TZOFFSETTO:-0500
TZNAME:EST
DTSTART:20271107T060000
END:STANDARD
BEGIN:DAYLIGHT
TZOFFSETFROM:-0500
TZOFFSETTO:-0400
TZNAME:EDT
DTSTART:20280312T070000
END:DAYLIGHT
BEGIN:STANDARD
TZOFFSETFROM:-0400
TZOFFSETTO:-0500
TZNAME:EST
DTSTART:20281105T060000
END:STANDARD
END:VTIMEZONE
BEGIN:VEVENT
DTSTART;TZID=America/Indiana/Indianapolis:20260509T090000
DTEND;TZID=America/Indiana/Indianapolis:20260509T143000
DTSTAMP:20260420T024953
CREATED:20260420T032740Z
LAST-MODIFIED:20260420T032740Z
UID:10003833-1778317200-1778337000@nrl22.com
SUMMARY:IDEAL FISH  & GAME CLUB   NRL22 MAY MATCH
DESCRIPTION:IDEAL FISH & GAME CLUB IS HOSTING NRL22 MATCHES ON THE 2ND SATURDAY OF THE MONTH. \nIT WILL START WITH SITE INS AND REGISTRATION STARTING AT 9:00AM UNTIL 10:30 WITH SQUADDING AND SAFETY BRIEF BEFORE MATCH STARTS. \nMUST BE PRESENT OF SAFETY MEETING TO SHOOT NO EXCEPTIONS! \nFEE IS $20 FOR NRL22 MEMBERS\, NEW SHOOTERS WILL SHOOT FOR FREE THE FIRST TIME.
URL:https://nrl22.com/match/ideal-fish-game-club-nrl22-may-match/2026-05-09/
LOCATION:Ideal Fish and Game Club\, 3310 US-33\, Churubusco\, IN\, 46723\, United States
CATEGORIES:NRL22
ATTACH;FMTTYPE=image/jpeg:https://nrl22.com/wp-content/uploads/2024/10/NRL22-Logo-Banner-1.jpg
ORGANIZER;CN="Harold Harris":MAILTO:HaroldHarris5017@gmail.com
GEO:41.2150755;-85.3121001
X-APPLE-STRUCTURED-LOCATION;VALUE=URI;X-ADDRESS=Ideal Fish and Game Club 3310 US-33 Churubusco IN 46723 United States;X-APPLE-RADIUS=500;X-TITLE=3310 US-33:geo:-85.3121001,41.2150755
END:VEVENT
BEGIN:VEVENT
DTSTART;TZID=America/Indiana/Indianapolis:20260613T090000
DTEND;TZID=America/Indiana/Indianapolis:20260613T143000
DTSTAMP:20260420T024953
CREATED:20260420T032740Z
LAST-MODIFIED:20260420T032740Z
UID:10003834-1781341200-1781361000@nrl22.com
SUMMARY:IDEAL FISH  & GAME CLUB   NRL22 MAY MATCH
DESCRIPTION:IDEAL FISH & GAME CLUB IS HOSTING NRL22 MATCHES ON THE 2ND SATURDAY OF THE MONTH. \nIT WILL START WITH SITE INS AND REGISTRATION STARTING AT 9:00AM UNTIL 10:30 WITH SQUADDING AND SAFETY BRIEF BEFORE MATCH STARTS. \nMUST BE PRESENT OF SAFETY MEETING TO SHOOT NO EXCEPTIONS! \nFEE IS $20 FOR NRL22 MEMBERS\, NEW SHOOTERS WILL SHOOT FOR FREE THE FIRST TIME.
URL:https://nrl22.com/match/ideal-fish-game-club-nrl22-may-match/2026-06-13/
LOCATION:Ideal Fish and Game Club\, 3310 US-33\, Churubusco\, IN\, 46723\, United States
CATEGORIES:NRL22
ATTACH;FMTTYPE=image/jpeg:https://nrl22.com/wp-content/uploads/2024/10/NRL22-Logo-Banner-1.jpg
ORGANIZER;CN="Harold Harris":MAILTO:HaroldHarris5017@gmail.com
GEO:41.2150755;-85.3121001
X-APPLE-STRUCTURED-LOCATION;VALUE=URI;X-ADDRESS=Ideal Fish and Game Club 3310 US-33 Churubusco IN 46723 United States;X-APPLE-RADIUS=500;X-TITLE=3310 US-33:geo:-85.3121001,41.2150755
END:VEVENT
BEGIN:VEVENT
DTSTART;TZID=America/Indiana/Indianapolis:20260711T090000
DTEND;TZID=America/Indiana/Indianapolis:20260711T143000
DTSTAMP:20260420T024953
CREATED:20260420T032740Z
LAST-MODIFIED:20260420T032740Z
UID:10003835-1783760400-1783780200@nrl22.com
SUMMARY:IDEAL FISH  & GAME CLUB   NRL22 MAY MATCH
DESCRIPTION:IDEAL FISH & GAME CLUB IS HOSTING NRL22 MATCHES ON THE 2ND SATURDAY OF THE MONTH. \nIT WILL START WITH SITE INS AND REGISTRATION STARTING AT 9:00AM UNTIL 10:30 WITH SQUADDING AND SAFETY BRIEF BEFORE MATCH STARTS. \nMUST BE PRESENT OF SAFETY MEETING TO SHOOT NO EXCEPTIONS! \nFEE IS $20 FOR NRL22 MEMBERS\, NEW SHOOTERS WILL SHOOT FOR FREE THE FIRST TIME.
URL:https://nrl22.com/match/ideal-fish-game-club-nrl22-may-match/2026-07-11/
LOCATION:Ideal Fish and Game Club\, 3310 US-33\, Churubusco\, IN\, 46723\, United States
CATEGORIES:NRL22
ATTACH;FMTTYPE=image/jpeg:https://nrl22.com/wp-content/uploads/2024/10/NRL22-Logo-Banner-1.jpg
ORGANIZER;CN="Harold Harris":MAILTO:HaroldHarris5017@gmail.com
GEO:41.2150755;-85.3121001
X-APPLE-STRUCTURED-LOCATION;VALUE=URI;X-ADDRESS=Ideal Fish and Game Club 3310 US-33 Churubusco IN 46723 United States;X-APPLE-RADIUS=500;X-TITLE=3310 US-33:geo:-85.3121001,41.2150755
END:VEVENT
BEGIN:VEVENT
DTSTART;TZID=America/Indiana/Indianapolis:20260808T090000
DTEND;TZID=America/Indiana/Indianapolis:20260808T143000
DTSTAMP:20260420T024953
CREATED:20260420T032740Z
LAST-MODIFIED:20260420T032740Z
UID:10003836-1786179600-1786199400@nrl22.com
SUMMARY:IDEAL FISH  & GAME CLUB   NRL22 MAY MATCH
DESCRIPTION:IDEAL FISH & GAME CLUB IS HOSTING NRL22 MATCHES ON THE 2ND SATURDAY OF THE MONTH. \nIT WILL START WITH SITE INS AND REGISTRATION STARTING AT 9:00AM UNTIL 10:30 WITH SQUADDING AND SAFETY BRIEF BEFORE MATCH STARTS. \nMUST BE PRESENT OF SAFETY MEETING TO SHOOT NO EXCEPTIONS! \nFEE IS $20 FOR NRL22 MEMBERS\, NEW SHOOTERS WILL SHOOT FOR FREE THE FIRST TIME.
URL:https://nrl22.com/match/ideal-fish-game-club-nrl22-may-match/2026-08-08/
LOCATION:Ideal Fish and Game Club\, 3310 US-33\, Churubusco\, IN\, 46723\, United States
CATEGORIES:NRL22
ATTACH;FMTTYPE=image/jpeg:https://nrl22.com/wp-content/uploads/2024/10/NRL22-Logo-Banner-1.jpg
ORGANIZER;CN="Harold Harris":MAILTO:HaroldHarris5017@gmail.com
GEO:41.2150755;-85.3121001
X-APPLE-STRUCTURED-LOCATION;VALUE=URI;X-ADDRESS=Ideal Fish and Game Club 3310 US-33 Churubusco IN 46723 United States;X-APPLE-RADIUS=500;X-TITLE=3310 US-33:geo:-85.3121001,41.2150755
END:VEVENT
BEGIN:VEVENT
DTSTART;TZID=America/Indiana/Indianapolis:20260926T090000
DTEND;TZID=America/Indiana/Indianapolis:20260926T143000
DTSTAMP:20260420T024953
CREATED:20260420T032740Z
LAST-MODIFIED:20260420T032740Z
UID:10003837-1790413200-1790433000@nrl22.com
SUMMARY:IDEAL FISH  & GAME CLUB   NRL22 MAY MATCH
DESCRIPTION:IDEAL FISH & GAME CLUB IS HOSTING NRL22 MATCHES ON THE 2ND SATURDAY OF THE MONTH. \nIT WILL START WITH SITE INS AND REGISTRATION STARTING AT 9:00AM UNTIL 10:30 WITH SQUADDING AND SAFETY BRIEF BEFORE MATCH STARTS. \nMUST BE PRESENT OF SAFETY MEETING TO SHOOT NO EXCEPTIONS! \nFEE IS $20 FOR NRL22 MEMBERS\, NEW SHOOTERS WILL SHOOT FOR FREE THE FIRST TIME.
URL:https://nrl22.com/match/ideal-fish-game-club-nrl22-may-match/2026-09-26/
LOCATION:Ideal Fish and Game Club\, 3310 US-33\, Churubusco\, IN\, 46723\, United States
CATEGORIES:NRL22
ATTACH;FMTTYPE=image/jpeg:https://nrl22.com/wp-content/uploads/2024/10/NRL22-Logo-Banner-1.jpg
ORGANIZER;CN="Harold Harris":MAILTO:HaroldHarris5017@gmail.com
GEO:41.2150755;-85.3121001
X-APPLE-STRUCTURED-LOCATION;VALUE=URI;X-ADDRESS=Ideal Fish and Game Club 3310 US-33 Churubusco IN 46723 United States;X-APPLE-RADIUS=500;X-TITLE=3310 US-33:geo:-85.3121001,41.2150755
END:VEVENT
BEGIN:VEVENT
DTSTART;TZID=America/Indiana/Indianapolis:20261010T090000
DTEND;TZID=America/Indiana/Indianapolis:20261010T143000
DTSTAMP:20260420T024953
CREATED:20260420T032740Z
LAST-MODIFIED:20260420T032740Z
UID:10003838-1791622800-1791642600@nrl22.com
SUMMARY:IDEAL FISH  & GAME CLUB   NRL22 MAY MATCH
DESCRIPTION:IDEAL FISH & GAME CLUB IS HOSTING NRL22 MATCHES ON THE 2ND SATURDAY OF THE MONTH. \nIT WILL START WITH SITE INS AND REGISTRATION STARTING AT 9:00AM UNTIL 10:30 WITH SQUADDING AND SAFETY BRIEF BEFORE MATCH STARTS. \nMUST BE PRESENT OF SAFETY MEETING TO SHOOT NO EXCEPTIONS! \nFEE IS $20 FOR NRL22 MEMBERS\, NEW SHOOTERS WILL SHOOT FOR FREE THE FIRST TIME.
URL:https://nrl22.com/match/ideal-fish-game-club-nrl22-may-match/2026-10-10/
LOCATION:Ideal Fish and Game Club\, 3310 US-33\, Churubusco\, IN\, 46723\, United States
CATEGORIES:NRL22
ATTACH;FMTTYPE=image/jpeg:https://nrl22.com/wp-content/uploads/2024/10/NRL22-Logo-Banner-1.jpg
ORGANIZER;CN="Harold Harris":MAILTO:HaroldHarris5017@gmail.com
GEO:41.2150755;-85.3121001
X-APPLE-STRUCTURED-LOCATION;VALUE=URI;X-ADDRESS=Ideal Fish and Game Club 3310 US-33 Churubusco IN 46723 United States;X-APPLE-RADIUS=500;X-TITLE=3310 US-33:geo:-85.3121001,41.2150755
END:VEVENT
BEGIN:VEVENT
DTSTART;TZID=America/Indiana/Indianapolis:20261114T090000
DTEND;TZID=America/Indiana/Indianapolis:20261114T143000
DTSTAMP:20260420T024953
CREATED:20260420T032740Z
LAST-MODIFIED:20260420T032740Z
UID:10003839-1794646800-1794666600@nrl22.com
SUMMARY:IDEAL FISH  & GAME CLUB   NRL22 MAY MATCH
DESCRIPTION:IDEAL FISH & GAME CLUB IS HOSTING NRL22 MATCHES ON THE 2ND SATURDAY OF THE MONTH. \nIT WILL START WITH SITE INS AND REGISTRATION STARTING AT 9:00AM UNTIL 10:30 WITH SQUADDING AND SAFETY BRIEF BEFORE MATCH STARTS. \nMUST BE PRESENT OF SAFETY MEETING TO SHOOT NO EXCEPTIONS! \nFEE IS $20 FOR NRL22 MEMBERS\, NEW SHOOTERS WILL SHOOT FOR FREE THE FIRST TIME.
URL:https://nrl22.com/match/ideal-fish-game-club-nrl22-may-match/2026-11-14/
LOCATION:Ideal Fish and Game Club\, 3310 US-33\, Churubusco\, IN\, 46723\, United States
CATEGORIES:NRL22
ATTACH;FMTTYPE=image/jpeg:https://nrl22.com/wp-content/uploads/2024/10/NRL22-Logo-Banner-1.jpg
ORGANIZER;CN="Harold Harris":MAILTO:HaroldHarris5017@gmail.com
GEO:41.2150755;-85.3121001
X-APPLE-STRUCTURED-LOCATION;VALUE=URI;X-ADDRESS=Ideal Fish and Game Club 3310 US-33 Churubusco IN 46723 United States;X-APPLE-RADIUS=500;X-TITLE=3310 US-33:geo:-85.3121001,41.2150755
END:VEVENT
BEGIN:VEVENT
DTSTART;TZID=America/Indiana/Indianapolis:20261212T090000
DTEND;TZID=America/Indiana/Indianapolis:20261212T143000
DTSTAMP:20260420T024953
CREATED:20260420T032740Z
LAST-MODIFIED:20260420T032740Z
UID:10003840-1797066000-1797085800@nrl22.com
SUMMARY:IDEAL FISH  & GAME CLUB   NRL22 MAY MATCH
DESCRIPTION:IDEAL FISH & GAME CLUB IS HOSTING NRL22 MATCHES ON THE 2ND SATURDAY OF THE MONTH. \nIT WILL START WITH SITE INS AND REGISTRATION STARTING AT 9:00AM UNTIL 10:30 WITH SQUADDING AND SAFETY BRIEF BEFORE MATCH STARTS. \nMUST BE PRESENT OF SAFETY MEETING TO SHOOT NO EXCEPTIONS! \nFEE IS $20 FOR NRL22 MEMBERS\, NEW SHOOTERS WILL SHOOT FOR FREE THE FIRST TIME.
URL:https://nrl22.com/match/ideal-fish-game-club-nrl22-may-match/2026-12-12/
LOCATION:Ideal Fish and Game Club\, 3310 US-33\, Churubusco\, IN\, 46723\, United States
CATEGORIES:NRL22
ATTACH;FMTTYPE=image/jpeg:https://nrl22.com/wp-content/uploads/2024/10/NRL22-Logo-Banner-1.jpg
ORGANIZER;CN="Harold Harris":MAILTO:HaroldHarris5017@gmail.com
GEO:41.2150755;-85.3121001
X-APPLE-STRUCTURED-LOCATION;VALUE=URI;X-ADDRESS=Ideal Fish and Game Club 3310 US-33 Churubusco IN 46723 United States;X-APPLE-RADIUS=500;X-TITLE=3310 US-33:geo:-85.3121001,41.2150755
END:VEVENT
BEGIN:VEVENT
DTSTART;TZID=America/Indiana/Indianapolis:20270109T090000
DTEND;TZID=America/Indiana/Indianapolis:20270109T143000
DTSTAMP:20260420T024953
CREATED:20260420T032740Z
LAST-MODIFIED:20260420T032740Z
UID:10003841-1799485200-1799505000@nrl22.com
SUMMARY:IDEAL FISH  & GAME CLUB   NRL22 MAY MATCH
DESCRIPTION:IDEAL FISH & GAME CLUB IS HOSTING NRL22 MATCHES ON THE 2ND SATURDAY OF THE MONTH. \nIT WILL START WITH SITE INS AND REGISTRATION STARTING AT 9:00AM UNTIL 10:30 WITH SQUADDING AND SAFETY BRIEF BEFORE MATCH STARTS. \nMUST BE PRESENT OF SAFETY MEETING TO SHOOT NO EXCEPTIONS! \nFEE IS $20 FOR NRL22 MEMBERS\, NEW SHOOTERS WILL SHOOT FOR FREE THE FIRST TIME.
URL:https://nrl22.com/match/ideal-fish-game-club-nrl22-may-match/2027-01-09/
LOCATION:Ideal Fish and Game Club\, 3310 US-33\, Churubusco\, IN\, 46723\, United States
CATEGORIES:NRL22
ATTACH;FMTTYPE=image/jpeg:https://nrl22.com/wp-content/uploads/2024/10/NRL22-Logo-Banner-1.jpg
ORGANIZER;CN="Harold Harris":MAILTO:HaroldHarris5017@gmail.com
GEO:41.2150755;-85.3121001
X-APPLE-STRUCTURED-LOCATION;VALUE=URI;X-ADDRESS=Ideal Fish and Game Club 3310 US-33 Churubusco IN 46723 United States;X-APPLE-RADIUS=500;X-TITLE=3310 US-33:geo:-85.3121001,41.2150755
END:VEVENT
BEGIN:VEVENT
DTSTART;TZID=America/Indiana/Indianapolis:20270213T090000
DTEND;TZID=America/Indiana/Indianapolis:20270213T143000
DTSTAMP:20260420T024953
CREATED:20260420T032740Z
LAST-MODIFIED:20260420T032740Z
UID:10003842-1802509200-1802529000@nrl22.com
SUMMARY:IDEAL FISH  & GAME CLUB   NRL22 MAY MATCH
DESCRIPTION:IDEAL FISH & GAME CLUB IS HOSTING NRL22 MATCHES ON THE 2ND SATURDAY OF THE MONTH. \nIT WILL START WITH SITE INS AND REGISTRATION STARTING AT 9:00AM UNTIL 10:30 WITH SQUADDING AND SAFETY BRIEF BEFORE MATCH STARTS. \nMUST BE PRESENT OF SAFETY MEETING TO SHOOT NO EXCEPTIONS! \nFEE IS $20 FOR NRL22 MEMBERS\, NEW SHOOTERS WILL SHOOT FOR FREE THE FIRST TIME.
URL:https://nrl22.com/match/ideal-fish-game-club-nrl22-may-match/2027-02-13/
LOCATION:Ideal Fish and Game Club\, 3310 US-33\, Churubusco\, IN\, 46723\, United States
CATEGORIES:NRL22
ATTACH;FMTTYPE=image/jpeg:https://nrl22.com/wp-content/uploads/2024/10/NRL22-Logo-Banner-1.jpg
ORGANIZER;CN="Harold Harris":MAILTO:HaroldHarris5017@gmail.com
GEO:41.2150755;-85.3121001
X-APPLE-STRUCTURED-LOCATION;VALUE=URI;X-ADDRESS=Ideal Fish and Game Club 3310 US-33 Churubusco IN 46723 United States;X-APPLE-RADIUS=500;X-TITLE=3310 US-33:geo:-85.3121001,41.2150755
END:VEVENT
BEGIN:VEVENT
DTSTART;TZID=America/Indiana/Indianapolis:20270313T090000
DTEND;TZID=America/Indiana/Indianapolis:20270313T143000
DTSTAMP:20260420T024953
CREATED:20260420T032740Z
LAST-MODIFIED:20260420T032740Z
UID:10003843-1804928400-1804948200@nrl22.com
SUMMARY:IDEAL FISH  & GAME CLUB   NRL22 MAY MATCH
DESCRIPTION:IDEAL FISH & GAME CLUB IS HOSTING NRL22 MATCHES ON THE 2ND SATURDAY OF THE MONTH. \nIT WILL START WITH SITE INS AND REGISTRATION STARTING AT 9:00AM UNTIL 10:30 WITH SQUADDING AND SAFETY BRIEF BEFORE MATCH STARTS. \nMUST BE PRESENT OF SAFETY MEETING TO SHOOT NO EXCEPTIONS! \nFEE IS $20 FOR NRL22 MEMBERS\, NEW SHOOTERS WILL SHOOT FOR FREE THE FIRST TIME.
URL:https://nrl22.com/match/ideal-fish-game-club-nrl22-may-match/2027-03-13/
LOCATION:Ideal Fish and Game Club\, 3310 US-33\, Churubusco\, IN\, 46723\, United States
CATEGORIES:NRL22
ATTACH;FMTTYPE=image/jpeg:https://nrl22.com/wp-content/uploads/2024/10/NRL22-Logo-Banner-1.jpg
ORGANIZER;CN="Harold Harris":MAILTO:HaroldHarris5017@gmail.com
GEO:41.2150755;-85.3121001
X-APPLE-STRUCTURED-LOCATION;VALUE=URI;X-ADDRESS=Ideal Fish and Game Club 3310 US-33 Churubusco IN 46723 United States;X-APPLE-RADIUS=500;X-TITLE=3310 US-33:geo:-85.3121001,41.2150755
END:VEVENT
BEGIN:VEVENT
DTSTART;TZID=America/Indiana/Indianapolis:20270410T090000
DTEND;TZID=America/Indiana/Indianapolis:20270410T143000
DTSTAMP:20260420T024954
CREATED:20260420T032740Z
LAST-MODIFIED:20260420T032740Z
UID:10003844-1807347600-1807367400@nrl22.com
SUMMARY:IDEAL FISH  & GAME CLUB   NRL22 MAY MATCH
DESCRIPTION:IDEAL FISH & GAME CLUB IS HOSTING NRL22 MATCHES ON THE 2ND SATURDAY OF THE MONTH. \nIT WILL START WITH SITE INS AND REGISTRATION STARTING AT 9:00AM UNTIL 10:30 WITH SQUADDING AND SAFETY BRIEF BEFORE MATCH STARTS. \nMUST BE PRESENT OF SAFETY MEETING TO SHOOT NO EXCEPTIONS! \nFEE IS $20 FOR NRL22 MEMBERS\, NEW SHOOTERS WILL SHOOT FOR FREE THE FIRST TIME.
URL:https://nrl22.com/match/ideal-fish-game-club-nrl22-may-match/2027-04-10/
LOCATION:Ideal Fish and Game Club\, 3310 US-33\, Churubusco\, IN\, 46723\, United States
CATEGORIES:NRL22
ATTACH;FMTTYPE=image/jpeg:https://nrl22.com/wp-content/uploads/2024/10/NRL22-Logo-Banner-1.jpg
ORGANIZER;CN="Harold Harris":MAILTO:HaroldHarris5017@gmail.com
GEO:41.2150755;-85.3121001
X-APPLE-STRUCTURED-LOCATION;VALUE=URI;X-ADDRESS=Ideal Fish and Game Club 3310 US-33 Churubusco IN 46723 United States;X-APPLE-RADIUS=500;X-TITLE=3310 US-33:geo:-85.3121001,41.2150755
END:VEVENT
END:VCALENDAR