
BEGIN:VCALENDAR
VERSION:2.0
PRODID:-//NRL22 - ECPv6.15.20//NONSGML v1.0//EN
CALSCALE:GREGORIAN
METHOD:PUBLISH
X-WR-CALNAME:NRL22
X-ORIGINAL-URL:https://nrl22.com
X-WR-CALDESC:Events for NRL22
REFRESH-INTERVAL;VALUE=DURATION:PT1H
X-Robots-Tag:noindex
X-PUBLISHED-TTL:PT1H
BEGIN:VTIMEZONE
TZID:America/Denver
BEGIN:DAYLIGHT
TZOFFSETFROM:-0700
TZOFFSETTO:-0600
TZNAME:MDT
DTSTART:20250309T090000
END:DAYLIGHT
BEGIN:STANDARD
TZOFFSETFROM:-0600
TZOFFSETTO:-0700
TZNAME:MST
DTSTART:20251102T080000
END:STANDARD
BEGIN:DAYLIGHT
TZOFFSETFROM:-0700
TZOFFSETTO:-0600
TZNAME:MDT
DTSTART:20260308T090000
END:DAYLIGHT
BEGIN:STANDARD
TZOFFSETFROM:-0600
TZOFFSETTO:-0700
TZNAME:MST
DTSTART:20261101T080000
END:STANDARD
BEGIN:DAYLIGHT
TZOFFSETFROM:-0700
TZOFFSETTO:-0600
TZNAME:MDT
DTSTART:20270314T090000
END:DAYLIGHT
BEGIN:STANDARD
TZOFFSETFROM:-0600
TZOFFSETTO:-0700
TZNAME:MST
DTSTART:20271107T080000
END:STANDARD
BEGIN:DAYLIGHT
TZOFFSETFROM:-0700
TZOFFSETTO:-0600
TZNAME:MDT
DTSTART:20280312T090000
END:DAYLIGHT
BEGIN:STANDARD
TZOFFSETFROM:-0600
TZOFFSETTO:-0700
TZNAME:MST
DTSTART:20281105T080000
END:STANDARD
END:VTIMEZONE
BEGIN:VEVENT
DTSTART;TZID=America/Denver:20260516T080000
DTEND;TZID=America/Denver:20260516T120000
DTSTAMP:20260421T021559
CREATED:20260421T035715Z
LAST-MODIFIED:20260421T035715Z
UID:10003861-1778918400-1778932800@nrl22.com
SUMMARY:Las Cruces Precision Rimfire NRL22
DESCRIPTION:Las Cruces Precision Rimfire NRL22 is dedicated to hosting and growing the NRL22 sport in and around New Mexico. Matches will take place on the 3rd Saturday of the month at the Butterfield Shooting Range in Las Cruces\, NM. We will shoot the monthly COF plus one bonus stage. \nPlease pre-register for matches at https://practiscore.com/clubs/las_cruces_precision_rimfire \nFor any match information not found on the practiscore link above\, please reach out to us on Facebook\, Instagram or email us at: srtswat641@hotmail.com \nMD: Erik Cook \nRimfire Matches per Year: 12 \nPrimary Range Distance (in Yds): 300+
URL:https://nrl22.com/match/las-cruces-precision-rimfire-nrl22-2/2026-05-16/
LOCATION:Las Cruces Precision Rimfire\, 13500 N Frontage Rd\, Las Cruces\, NM\, 88007\, United States
CATEGORIES:NRL22
ATTACH;FMTTYPE=image/jpeg:https://nrl22.com/wp-content/uploads/2026/04/LCPR-Logo-1.jpg
ORGANIZER;CN="Erik Cook":MAILTO:srtswat641@hotmail.com
GEO:32.2860612;-106.7412672
X-APPLE-STRUCTURED-LOCATION;VALUE=URI;X-ADDRESS=Las Cruces Precision Rimfire 13500 N Frontage Rd Las Cruces NM 88007 United States;X-APPLE-RADIUS=500;X-TITLE=13500 N Frontage Rd:geo:-106.7412672,32.2860612
END:VEVENT
BEGIN:VEVENT
DTSTART;TZID=America/Denver:20260620T080000
DTEND;TZID=America/Denver:20260620T120000
DTSTAMP:20260421T021559
CREATED:20260421T035715Z
LAST-MODIFIED:20260421T035715Z
UID:10003862-1781942400-1781956800@nrl22.com
SUMMARY:Las Cruces Precision Rimfire NRL22
DESCRIPTION:Las Cruces Precision Rimfire NRL22 is dedicated to hosting and growing the NRL22 sport in and around New Mexico. Matches will take place on the 3rd Saturday of the month at the Butterfield Shooting Range in Las Cruces\, NM. We will shoot the monthly COF plus one bonus stage. \nPlease pre-register for matches at https://practiscore.com/clubs/las_cruces_precision_rimfire \nFor any match information not found on the practiscore link above\, please reach out to us on Facebook\, Instagram or email us at: srtswat641@hotmail.com \nMD: Erik Cook \nRimfire Matches per Year: 12 \nPrimary Range Distance (in Yds): 300+
URL:https://nrl22.com/match/las-cruces-precision-rimfire-nrl22-2/2026-06-20/
LOCATION:Las Cruces Precision Rimfire\, 13500 N Frontage Rd\, Las Cruces\, NM\, 88007\, United States
CATEGORIES:NRL22
ATTACH;FMTTYPE=image/jpeg:https://nrl22.com/wp-content/uploads/2026/04/LCPR-Logo-1.jpg
ORGANIZER;CN="Erik Cook":MAILTO:srtswat641@hotmail.com
GEO:32.2860612;-106.7412672
X-APPLE-STRUCTURED-LOCATION;VALUE=URI;X-ADDRESS=Las Cruces Precision Rimfire 13500 N Frontage Rd Las Cruces NM 88007 United States;X-APPLE-RADIUS=500;X-TITLE=13500 N Frontage Rd:geo:-106.7412672,32.2860612
END:VEVENT
BEGIN:VEVENT
DTSTART;TZID=America/Denver:20260718T080000
DTEND;TZID=America/Denver:20260718T120000
DTSTAMP:20260421T021559
CREATED:20260421T035715Z
LAST-MODIFIED:20260421T035715Z
UID:10003863-1784361600-1784376000@nrl22.com
SUMMARY:Las Cruces Precision Rimfire NRL22
DESCRIPTION:Las Cruces Precision Rimfire NRL22 is dedicated to hosting and growing the NRL22 sport in and around New Mexico. Matches will take place on the 3rd Saturday of the month at the Butterfield Shooting Range in Las Cruces\, NM. We will shoot the monthly COF plus one bonus stage. \nPlease pre-register for matches at https://practiscore.com/clubs/las_cruces_precision_rimfire \nFor any match information not found on the practiscore link above\, please reach out to us on Facebook\, Instagram or email us at: srtswat641@hotmail.com \nMD: Erik Cook \nRimfire Matches per Year: 12 \nPrimary Range Distance (in Yds): 300+
URL:https://nrl22.com/match/las-cruces-precision-rimfire-nrl22-2/2026-07-18/
LOCATION:Las Cruces Precision Rimfire\, 13500 N Frontage Rd\, Las Cruces\, NM\, 88007\, United States
CATEGORIES:NRL22
ATTACH;FMTTYPE=image/jpeg:https://nrl22.com/wp-content/uploads/2026/04/LCPR-Logo-1.jpg
ORGANIZER;CN="Erik Cook":MAILTO:srtswat641@hotmail.com
GEO:32.2860612;-106.7412672
X-APPLE-STRUCTURED-LOCATION;VALUE=URI;X-ADDRESS=Las Cruces Precision Rimfire 13500 N Frontage Rd Las Cruces NM 88007 United States;X-APPLE-RADIUS=500;X-TITLE=13500 N Frontage Rd:geo:-106.7412672,32.2860612
END:VEVENT
BEGIN:VEVENT
DTSTART;TZID=America/Denver:20260815T080000
DTEND;TZID=America/Denver:20260815T120000
DTSTAMP:20260421T021559
CREATED:20260421T035715Z
LAST-MODIFIED:20260421T035715Z
UID:10003864-1786780800-1786795200@nrl22.com
SUMMARY:Las Cruces Precision Rimfire NRL22
DESCRIPTION:Las Cruces Precision Rimfire NRL22 is dedicated to hosting and growing the NRL22 sport in and around New Mexico. Matches will take place on the 3rd Saturday of the month at the Butterfield Shooting Range in Las Cruces\, NM. We will shoot the monthly COF plus one bonus stage. \nPlease pre-register for matches at https://practiscore.com/clubs/las_cruces_precision_rimfire \nFor any match information not found on the practiscore link above\, please reach out to us on Facebook\, Instagram or email us at: srtswat641@hotmail.com \nMD: Erik Cook \nRimfire Matches per Year: 12 \nPrimary Range Distance (in Yds): 300+
URL:https://nrl22.com/match/las-cruces-precision-rimfire-nrl22-2/2026-08-15/
LOCATION:Las Cruces Precision Rimfire\, 13500 N Frontage Rd\, Las Cruces\, NM\, 88007\, United States
CATEGORIES:NRL22
ATTACH;FMTTYPE=image/jpeg:https://nrl22.com/wp-content/uploads/2026/04/LCPR-Logo-1.jpg
ORGANIZER;CN="Erik Cook":MAILTO:srtswat641@hotmail.com
GEO:32.2860612;-106.7412672
X-APPLE-STRUCTURED-LOCATION;VALUE=URI;X-ADDRESS=Las Cruces Precision Rimfire 13500 N Frontage Rd Las Cruces NM 88007 United States;X-APPLE-RADIUS=500;X-TITLE=13500 N Frontage Rd:geo:-106.7412672,32.2860612
END:VEVENT
BEGIN:VEVENT
DTSTART;TZID=America/Denver:20260919T080000
DTEND;TZID=America/Denver:20260919T120000
DTSTAMP:20260421T021559
CREATED:20260421T035715Z
LAST-MODIFIED:20260421T035715Z
UID:10003865-1789804800-1789819200@nrl22.com
SUMMARY:Las Cruces Precision Rimfire NRL22
DESCRIPTION:Las Cruces Precision Rimfire NRL22 is dedicated to hosting and growing the NRL22 sport in and around New Mexico. Matches will take place on the 3rd Saturday of the month at the Butterfield Shooting Range in Las Cruces\, NM. We will shoot the monthly COF plus one bonus stage. \nPlease pre-register for matches at https://practiscore.com/clubs/las_cruces_precision_rimfire \nFor any match information not found on the practiscore link above\, please reach out to us on Facebook\, Instagram or email us at: srtswat641@hotmail.com \nMD: Erik Cook \nRimfire Matches per Year: 12 \nPrimary Range Distance (in Yds): 300+
URL:https://nrl22.com/match/las-cruces-precision-rimfire-nrl22-2/2026-09-19/
LOCATION:Las Cruces Precision Rimfire\, 13500 N Frontage Rd\, Las Cruces\, NM\, 88007\, United States
CATEGORIES:NRL22
ATTACH;FMTTYPE=image/jpeg:https://nrl22.com/wp-content/uploads/2026/04/LCPR-Logo-1.jpg
ORGANIZER;CN="Erik Cook":MAILTO:srtswat641@hotmail.com
GEO:32.2860612;-106.7412672
X-APPLE-STRUCTURED-LOCATION;VALUE=URI;X-ADDRESS=Las Cruces Precision Rimfire 13500 N Frontage Rd Las Cruces NM 88007 United States;X-APPLE-RADIUS=500;X-TITLE=13500 N Frontage Rd:geo:-106.7412672,32.2860612
END:VEVENT
BEGIN:VEVENT
DTSTART;TZID=America/Denver:20261017T080000
DTEND;TZID=America/Denver:20261017T120000
DTSTAMP:20260421T021559
CREATED:20260421T035715Z
LAST-MODIFIED:20260421T035715Z
UID:10003866-1792224000-1792238400@nrl22.com
SUMMARY:Las Cruces Precision Rimfire NRL22
DESCRIPTION:Las Cruces Precision Rimfire NRL22 is dedicated to hosting and growing the NRL22 sport in and around New Mexico. Matches will take place on the 3rd Saturday of the month at the Butterfield Shooting Range in Las Cruces\, NM. We will shoot the monthly COF plus one bonus stage. \nPlease pre-register for matches at https://practiscore.com/clubs/las_cruces_precision_rimfire \nFor any match information not found on the practiscore link above\, please reach out to us on Facebook\, Instagram or email us at: srtswat641@hotmail.com \nMD: Erik Cook \nRimfire Matches per Year: 12 \nPrimary Range Distance (in Yds): 300+
URL:https://nrl22.com/match/las-cruces-precision-rimfire-nrl22-2/2026-10-17/
LOCATION:Las Cruces Precision Rimfire\, 13500 N Frontage Rd\, Las Cruces\, NM\, 88007\, United States
CATEGORIES:NRL22
ATTACH;FMTTYPE=image/jpeg:https://nrl22.com/wp-content/uploads/2026/04/LCPR-Logo-1.jpg
ORGANIZER;CN="Erik Cook":MAILTO:srtswat641@hotmail.com
GEO:32.2860612;-106.7412672
X-APPLE-STRUCTURED-LOCATION;VALUE=URI;X-ADDRESS=Las Cruces Precision Rimfire 13500 N Frontage Rd Las Cruces NM 88007 United States;X-APPLE-RADIUS=500;X-TITLE=13500 N Frontage Rd:geo:-106.7412672,32.2860612
END:VEVENT
BEGIN:VEVENT
DTSTART;TZID=America/Denver:20261121T080000
DTEND;TZID=America/Denver:20261121T120000
DTSTAMP:20260421T021559
CREATED:20260421T035715Z
LAST-MODIFIED:20260421T035715Z
UID:10003867-1795248000-1795262400@nrl22.com
SUMMARY:Las Cruces Precision Rimfire NRL22
DESCRIPTION:Las Cruces Precision Rimfire NRL22 is dedicated to hosting and growing the NRL22 sport in and around New Mexico. Matches will take place on the 3rd Saturday of the month at the Butterfield Shooting Range in Las Cruces\, NM. We will shoot the monthly COF plus one bonus stage. \nPlease pre-register for matches at https://practiscore.com/clubs/las_cruces_precision_rimfire \nFor any match information not found on the practiscore link above\, please reach out to us on Facebook\, Instagram or email us at: srtswat641@hotmail.com \nMD: Erik Cook \nRimfire Matches per Year: 12 \nPrimary Range Distance (in Yds): 300+
URL:https://nrl22.com/match/las-cruces-precision-rimfire-nrl22-2/2026-11-21/
LOCATION:Las Cruces Precision Rimfire\, 13500 N Frontage Rd\, Las Cruces\, NM\, 88007\, United States
CATEGORIES:NRL22
ATTACH;FMTTYPE=image/jpeg:https://nrl22.com/wp-content/uploads/2026/04/LCPR-Logo-1.jpg
ORGANIZER;CN="Erik Cook":MAILTO:srtswat641@hotmail.com
GEO:32.2860612;-106.7412672
X-APPLE-STRUCTURED-LOCATION;VALUE=URI;X-ADDRESS=Las Cruces Precision Rimfire 13500 N Frontage Rd Las Cruces NM 88007 United States;X-APPLE-RADIUS=500;X-TITLE=13500 N Frontage Rd:geo:-106.7412672,32.2860612
END:VEVENT
BEGIN:VEVENT
DTSTART;TZID=America/Denver:20261219T080000
DTEND;TZID=America/Denver:20261219T120000
DTSTAMP:20260421T021559
CREATED:20260421T035715Z
LAST-MODIFIED:20260421T035715Z
UID:10003868-1797667200-1797681600@nrl22.com
SUMMARY:Las Cruces Precision Rimfire NRL22
DESCRIPTION:Las Cruces Precision Rimfire NRL22 is dedicated to hosting and growing the NRL22 sport in and around New Mexico. Matches will take place on the 3rd Saturday of the month at the Butterfield Shooting Range in Las Cruces\, NM. We will shoot the monthly COF plus one bonus stage. \nPlease pre-register for matches at https://practiscore.com/clubs/las_cruces_precision_rimfire \nFor any match information not found on the practiscore link above\, please reach out to us on Facebook\, Instagram or email us at: srtswat641@hotmail.com \nMD: Erik Cook \nRimfire Matches per Year: 12 \nPrimary Range Distance (in Yds): 300+
URL:https://nrl22.com/match/las-cruces-precision-rimfire-nrl22-2/2026-12-19/
LOCATION:Las Cruces Precision Rimfire\, 13500 N Frontage Rd\, Las Cruces\, NM\, 88007\, United States
CATEGORIES:NRL22
ATTACH;FMTTYPE=image/jpeg:https://nrl22.com/wp-content/uploads/2026/04/LCPR-Logo-1.jpg
ORGANIZER;CN="Erik Cook":MAILTO:srtswat641@hotmail.com
GEO:32.2860612;-106.7412672
X-APPLE-STRUCTURED-LOCATION;VALUE=URI;X-ADDRESS=Las Cruces Precision Rimfire 13500 N Frontage Rd Las Cruces NM 88007 United States;X-APPLE-RADIUS=500;X-TITLE=13500 N Frontage Rd:geo:-106.7412672,32.2860612
END:VEVENT
BEGIN:VEVENT
DTSTART;TZID=America/Denver:20270116T080000
DTEND;TZID=America/Denver:20270116T120000
DTSTAMP:20260421T021559
CREATED:20260421T035715Z
LAST-MODIFIED:20260421T035715Z
UID:10003869-1800086400-1800100800@nrl22.com
SUMMARY:Las Cruces Precision Rimfire NRL22
DESCRIPTION:Las Cruces Precision Rimfire NRL22 is dedicated to hosting and growing the NRL22 sport in and around New Mexico. Matches will take place on the 3rd Saturday of the month at the Butterfield Shooting Range in Las Cruces\, NM. We will shoot the monthly COF plus one bonus stage. \nPlease pre-register for matches at https://practiscore.com/clubs/las_cruces_precision_rimfire \nFor any match information not found on the practiscore link above\, please reach out to us on Facebook\, Instagram or email us at: srtswat641@hotmail.com \nMD: Erik Cook \nRimfire Matches per Year: 12 \nPrimary Range Distance (in Yds): 300+
URL:https://nrl22.com/match/las-cruces-precision-rimfire-nrl22-2/2027-01-16/
LOCATION:Las Cruces Precision Rimfire\, 13500 N Frontage Rd\, Las Cruces\, NM\, 88007\, United States
CATEGORIES:NRL22
ATTACH;FMTTYPE=image/jpeg:https://nrl22.com/wp-content/uploads/2026/04/LCPR-Logo-1.jpg
ORGANIZER;CN="Erik Cook":MAILTO:srtswat641@hotmail.com
GEO:32.2860612;-106.7412672
X-APPLE-STRUCTURED-LOCATION;VALUE=URI;X-ADDRESS=Las Cruces Precision Rimfire 13500 N Frontage Rd Las Cruces NM 88007 United States;X-APPLE-RADIUS=500;X-TITLE=13500 N Frontage Rd:geo:-106.7412672,32.2860612
END:VEVENT
BEGIN:VEVENT
DTSTART;TZID=America/Denver:20270320T080000
DTEND;TZID=America/Denver:20270320T120000
DTSTAMP:20260421T021559
CREATED:20260421T035715Z
LAST-MODIFIED:20260421T035715Z
UID:10003870-1805529600-1805544000@nrl22.com
SUMMARY:Las Cruces Precision Rimfire NRL22
DESCRIPTION:Las Cruces Precision Rimfire NRL22 is dedicated to hosting and growing the NRL22 sport in and around New Mexico. Matches will take place on the 3rd Saturday of the month at the Butterfield Shooting Range in Las Cruces\, NM. We will shoot the monthly COF plus one bonus stage. \nPlease pre-register for matches at https://practiscore.com/clubs/las_cruces_precision_rimfire \nFor any match information not found on the practiscore link above\, please reach out to us on Facebook\, Instagram or email us at: srtswat641@hotmail.com \nMD: Erik Cook \nRimfire Matches per Year: 12 \nPrimary Range Distance (in Yds): 300+
URL:https://nrl22.com/match/las-cruces-precision-rimfire-nrl22-2/2027-03-20/
LOCATION:Las Cruces Precision Rimfire\, 13500 N Frontage Rd\, Las Cruces\, NM\, 88007\, United States
CATEGORIES:NRL22
ATTACH;FMTTYPE=image/jpeg:https://nrl22.com/wp-content/uploads/2026/04/LCPR-Logo-1.jpg
ORGANIZER;CN="Erik Cook":MAILTO:srtswat641@hotmail.com
GEO:32.2860612;-106.7412672
X-APPLE-STRUCTURED-LOCATION;VALUE=URI;X-ADDRESS=Las Cruces Precision Rimfire 13500 N Frontage Rd Las Cruces NM 88007 United States;X-APPLE-RADIUS=500;X-TITLE=13500 N Frontage Rd:geo:-106.7412672,32.2860612
END:VEVENT
BEGIN:VEVENT
DTSTART;TZID=America/Denver:20270417T080000
DTEND;TZID=America/Denver:20270417T120000
DTSTAMP:20260421T021559
CREATED:20260421T035715Z
LAST-MODIFIED:20260421T035715Z
UID:10003871-1807948800-1807963200@nrl22.com
SUMMARY:Las Cruces Precision Rimfire NRL22
DESCRIPTION:Las Cruces Precision Rimfire NRL22 is dedicated to hosting and growing the NRL22 sport in and around New Mexico. Matches will take place on the 3rd Saturday of the month at the Butterfield Shooting Range in Las Cruces\, NM. We will shoot the monthly COF plus one bonus stage. \nPlease pre-register for matches at https://practiscore.com/clubs/las_cruces_precision_rimfire \nFor any match information not found on the practiscore link above\, please reach out to us on Facebook\, Instagram or email us at: srtswat641@hotmail.com \nMD: Erik Cook \nRimfire Matches per Year: 12 \nPrimary Range Distance (in Yds): 300+
URL:https://nrl22.com/match/las-cruces-precision-rimfire-nrl22-2/2027-04-17/
LOCATION:Las Cruces Precision Rimfire\, 13500 N Frontage Rd\, Las Cruces\, NM\, 88007\, United States
CATEGORIES:NRL22
ATTACH;FMTTYPE=image/jpeg:https://nrl22.com/wp-content/uploads/2026/04/LCPR-Logo-1.jpg
ORGANIZER;CN="Erik Cook":MAILTO:srtswat641@hotmail.com
GEO:32.2860612;-106.7412672
X-APPLE-STRUCTURED-LOCATION;VALUE=URI;X-ADDRESS=Las Cruces Precision Rimfire 13500 N Frontage Rd Las Cruces NM 88007 United States;X-APPLE-RADIUS=500;X-TITLE=13500 N Frontage Rd:geo:-106.7412672,32.2860612
END:VEVENT
END:VCALENDAR